{"text_format":"3","workbook":"xlsx","n_sheets":3,"sheets":["Sheet1","Sheet2","Sheet3"],"not_rendered":{"external_links":2,"defined_names":1},"read":"whole","date_system":"1900"}

{"sheet":"Sheet1","index":0,"n_rows":489,"n_cols":20,"rows_kept":489,"merged":[[0,0,0,18],[1,0,1,18],[2,0,2,18],[3,0,4,0],[3,1,4,1],[3,2,4,2],[3,3,4,3],[3,4,4,4],[3,5,4,5],[3,6,4,6],[3,7,4,7],[3,8,4,8],[3,9,3,10],[3,11,3,12],[3,13,3,14],[3,15,4,15],[3,16,4,16],[3,17,4,17],[3,18,4,18],[489,0,489,18]]}
["柳州职业技术大学2025届全日制专科毕业生毕业资格审核表"]
["填表说明：\n1.第6、7、8行是填写模板。                                                                                                                                                 \n2.学号、姓名的信息从《学信网2025届全日制专科学生信息基础数据》表中按照班级筛选并粘贴。                                                               \n3.必修课不及格门数填写学生到统计数据为止成绩未达到60分的课程总门数，如李四只有《大学生安全教育》课程不及格，其他课程成绩合格，那么李四必修课不及格门数填写“1”；选修课已修学分填写学生到统计数据为止总共修得的学分，如李四共修公共选修课两门（一门课程学分为2分，另一门课程学分3分）并且成绩合格，那么李四选课程已修学分为“5”。                                                                                                                   \n4.第二课堂学分和诚信分填写具体获得的分数，若第二课堂学分>=120，填写“是”，若＜填“否”；诚信分>=1800，填写“是”，若＜填“否”。 德育审查如有仍未解除的，填写“否”，如没有违纪记录的，在“违纪处分是否解除”栏划斜线“/”。德育审查结果不能留空。                                                                                           \n5.假若学生“必修课程不及格门数”为“0”、“选修课已修学分”总分15分、“第二课堂学分>=120”、“诚信分>=1800”都填写“是”，则学生达到毕业要求，在“是否达到毕业资格”填写“是”，若以上条件有一列未达到要求，请填写“否”；                                                                                   \n6.请如实填写“欠费金额”。\n7.上交纸质材料的时候二级学院要盖公章，电子档不需要盖电子章，但是要如实填写上报日期、专业要与《学信网2025届全日制专科学生信息基础数据》专业名称一致。\n8.结业原因填写序号：①必修课未通过②选修课未达标③综合素质考评不达标（综合素质包括第二课堂活动分、诚信分及德育审查项目）"]
["二级学院（盖章）：贸易与旅游管理学院          应毕业人数： 484     毕业人数：       结业人数：                            填表日期："]
["序号","专业名称","班别","学号","学生姓名","必修课不及格门数","必修课不及格具体课程名称","是否已修四史课","选修课\n总学分","第二课堂活动分",null,"诚信分",null,"德育审查",null,"是否达到毕业要求","毕结业\n结论","欠费金额","结业\n原因"]
[{"$nulls":9},"分数","是否≥120","分数","是否≥1800","是否有违纪处分","违纪处分是否解除"]
[1,"电子商务",1,"20190310045","罗永秀",3,"营销基础、习近平新时代中国特色社会主义思想概论、网页开发与设计","是",42,{"$f":"VLOOKUP(D6,[1]sheet1!$A:$C,3,0)","v":336},"是",{"$f":"VLOOKUP(D6,[1]sheet1!$A$1:$C$293,2,0)","v":3120},"是","否","/","否","结业",{"v":0,"d":"¥0.00"},1]
[2,"电子商务",1,"20210606085","陈广",3,"习近平新时代中国特色社会主义思想概论","是",41,{"$f":"VLOOKUP(D7,[1]sheet1!$A:$C,3,0)","v":301},"是",{"$f":"VLOOKUP(D7,[1]sheet1!$A$1:$C$293,2,0)","v":1850},"是","是","是","否","结业",{"v":0,"d":"¥0.00"},1]
[3,"电子商务",1,"20210606180","徐宗才",1,"习近平新时代中国特色社会主义思想概论","是",35,{"$f":"VLOOKUP(D8,[1]sheet1!$A:$C,3,0)","v":312},"是",{"$f":"VLOOKUP(D8,[1]sheet1!$A$1:$C$293,2,0)","v":1970},"是","否","/","否","结业",{"v":0,"d":"¥0.00"},1]
[4,"电子商务",1,"20220606138","官蝶兰",0,"无","是",42.5,{"$f":"VLOOKUP(D9,[1]sheet1!$A:$C,3,0)","v":365},"是",{"$f":"VLOOKUP(D9,[1]sheet1!$A$1:$C$293,2,0)","v":2680},"是","否","/","是","毕业",{"v":0,"d":"¥0.00"}]
[5,"电子商务",1,"20220606149","杨皓然",0,"无","是",43.5,{"$f":"VLOOKUP(D10,[1]sheet1!$A:$C,3,0)","v":243},"是",{"$f":"VLOOKUP(D10,[1]sheet1!$A$1:$C$293,2,0)","v":2390},"是","否","/","是","毕业",{"v":0,"d":"¥0.00"}]
[6,"电子商务",1,"20220606148","王敬轩",0,"无","是",40.5,{"$f":"VLOOKUP(D11,[1]sheet1!$A:$C,3,0)","v":277},"是",{"$f":"VLOOKUP(D11,[1]sheet1!$A$1:$C$293,2,0)","v":2620},"是","否","/","是","毕业",{"v":0,"d":"¥0.00"}]
[7,"电子商务",1,"20220606152","许兆蒴",0,"无","是",45.5,{"$f":"VLOOKUP(D12,[1]sheet1!$A:$C,3,0)","v":436},"是",{"$f":"VLOOKUP(D12,[1]sheet1!$A$1:$C$293,2,0)","v":2580},"是","否","/","是","毕业",{"v":0,"d":"¥0.00"}]
[8,"电子商务",1,"20220606022","黄千芸",0,"无","是",44.5,{"$f":"VLOOKUP(D13,[1]sheet1!$A:$C,3,0)","v":294},"是",{"$f":"VLOOKUP(D13,[1]sheet1!$A$1:$C$293,2,0)","v":2570},"是","否","/","是","毕业",{"v":0,"d":"¥0.00"}]
[9,"电子商务",1,"20220606004","刘昕元",1,"职场英语","是",39.5,{"$f":"VLOOKUP(D14,[1]sheet1!$A:$C,3,0)","v":229},"是",{"$f":"VLOOKUP(D14,[1]sheet1!$A$1:$C$293,2,0)","v":1940},"是","否","/","否","结业",{"v":0,"d":"¥0.00"},1]
[10,"电子商务",1,"20220606061","王月妮",0,"无","是",41.5,{"$f":"VLOOKUP(D15,[1]sheet1!$A:$C,3,0)","v":352},"是",{"$f":"VLOOKUP(D15,[1]sheet1!$A$1:$C$293,2,0)","v":3050},"是","否","/","是","毕业",{"v":0,"d":"¥0.00"}]
[11,"电子商务",1,"20220606109","简俊铃",0,"无","是",44.5,{"$f":"VLOOKUP(D16,[1]sheet1!$A:$C,3,0)","v":345},"是",{"$f":"VLOOKUP(D16,[1]sheet1!$A$1:$C$293,2,0)","v":2010},"是","否","/","是","毕业",{"v":0,"d":"¥0.00"}]
[12,"电子商务",1,"20220606134","张思琪",0,"无","是",43.5,{"$f":"VLOOKUP(D17,[1]sheet1!$A:$C,3,0)","v":309},"是",{"$f":"VLOOKUP(D17,[1]sheet1!$A$1:$C$293,2,0)","v":3300},"是","否","/","是","毕业",{"v":0,"d":"¥0.00"}]
[13,"电子商务",1,"20220606141","韦平军",0,"无","是",45.5,{"$f":"VLOOKUP(D18,[1]sheet1!$A:$C,3,0)","v":277},"是",{"$f":"VLOOKUP(D18,[1]sheet1!$A$1:$C$293,2,0)","v":2290},"是","否","/","是","毕业",{"v":0,"d":"¥0.00"}]
[14,"电子商务",1,"20220606133","李欣",0,"无","是",41.5,{"$f":"VLOOKUP(D19,[1]sheet1!$A:$C,3,0)","v":469},"是",{"$f":"VLOOKUP(D19,[1]sheet1!$A$1:$C$293,2,0)","v":3530},"是","否","/","是","毕业",{"v":0,"d":"¥0.00"}]
[15,"电子商务",1,"20220606002","黄伟恒",0,"无","是",43.5,{"$f":"VLOOKUP(D20,[1]sheet1!$A:$C,3,0)","v":308},"是",{"$f":"VLOOKUP(D20,[1]sheet1!$A$1:$C$293,2,0)","v":2420},"是","否","/","是","毕业",{"v":0,"d":"¥0.00"}]
[16,"电子商务",1,"20220606020","莫月珍",0,"无","是",39.5,{"$f":"VLOOKUP(D21,[1]sheet1!$A:$C,3,0)","v":396},"是",{"$f":"VLOOKUP(D21,[1]sheet1!$A$1:$C$293,2,0)","v":2180},"是","否","/","是","毕业",{"v":0,"d":"¥0.00"}]
[17,"电子商务",1,"20220606012","覃佩娱",0,"无","是",46.5,{"$f":"VLOOKUP(D22,[1]sheet1!$A:$C,3,0)","v":264},"是",{"$f":"VLOOKUP(D22,[1]sheet1!$A$1:$C$293,2,0)","v":2220},"是","否","/","是","毕业",{"v":0,"d":"¥0.00"}]
[18,"电子商务",1,"20220606063","覃茜维",0,"无","是",43.5,{"$f":"VLOOKUP(D23,[1]sheet1!$A:$C,3,0)","v":436},"是",{"$f":"VLOOKUP(D23,[1]sheet1!$A$1:$C$293,2,0)","v":3340},"是","否","/","是","毕业",{"v":0,"d":"¥0.00"}]
[19,"电子商务",1,"20220606101","王佳琪",0,"无","是",41.5,{"$f":"VLOOKUP(D24,[1]sheet1!$A:$C,3,0)","v":455},"是",{"$f":"VLOOKUP(D24,[1]sheet1!$A$1:$C$293,2,0)","v":3280},"是","否","/","是","毕业",{"v":0,"d":"¥0.00"}]
[20,"电子商务",1,"20220111029","张译骞",0,"无","是",43.5,{"$f":"VLOOKUP(D25,[1]sheet1!$A:$C,3,0)","v":229},"是",{"$f":"VLOOKUP(D25,[1]sheet1!$A$1:$C$293,2,0)","v":1920},"是","否","/","是","毕业",{"v":0,"d":"¥0.00"}]
[21,"电子商务",1,"20220606007","刘海琪",0,"无","是",48.5,{"$f":"VLOOKUP(D26,[1]sheet1!$A:$C,3,0)","v":304},"是",{"$f":"VLOOKUP(D26,[1]sheet1!$A$1:$C$293,2,0)","v":3110},"是","否","/","是","毕业",{"v":0,"d":"¥0.00"}]
[22,"电子商务",1,"20220606046","廖俊洋",0,"无","是",38.5,{"$f":"VLOOKUP(D27,[1]sheet1!$A:$C,3,0)","v":282},"是",{"$f":"VLOOKUP(D27,[1]sheet1!$A$1:$C$293,2,0)","v":2070},"是","否","/","是","毕业",{"v":0,"d":"¥0.00"}]
[23,"电子商务",1,"20220606045","蔡良甜",0,"无","是",43.5,{"$f":"VLOOKUP(D28,[1]sheet1!$A:$C,3,0)","v":273},"是",{"$f":"VLOOKUP(D28,[1]sheet1!$A$1:$C$293,2,0)","v":2090},"是","否","/","是","毕业",{"v":0,"d":"¥0.00"}]
[24,"电子商务",1,"20220210041","李雪龙",1,"职场英语","是",41.5,{"$f":"VLOOKUP(D29,[1]sheet1!$A:$C,3,0)","v":257},"是",{"$f":"VLOOKUP(D29,[1]sheet1!$A$1:$C$293,2,0)","v":1800},"是","是","是","否","结业",{"v":0,"d":"¥0.00"},1]
[25,"电子商务",1,"20220606112","李嘉彬",0,"无","是",37.5,{"$f":"VLOOKUP(D30,[1]sheet1!$A:$C,3,0)","v":386},"是",{"$f":"VLOOKUP(D30,[1]sheet1!$A$1:$C$293,2,0)","v":2320},"是","否","/","是","毕业",{"v":0,"d":"¥0.00"}]
[26,"电子商务",1,"20220606037","李醒龙",0,"无","是",43.5,{"$f":"VLOOKUP(D31,[1]sheet1!$A:$C,3,0)","v":333},"是",{"$f":"VLOOKUP(D31,[1]sheet1!$A$1:$C$293,2,0)","v":2270},"是","否","/","是","毕业",{"v":0,"d":"¥0.00"}]
[27,"电子商务",1,"20220606116","陈思娜",0,"无","是",43.5,{"$f":"VLOOKUP(D32,[1]sheet1!$A:$C,3,0)","v":233},"是",{"$f":"VLOOKUP(D32,[1]sheet1!$A$1:$C$293,2,0)","v":2670},"是","否","/","是","毕业",{"v":0,"d":"¥0.00"}]
[28,"电子商务",1,"20220606126","胡燕凤",0,"无","是",46.5,{"$f":"VLOOKUP(D33,[1]sheet1!$A:$C,3,0)","v":280},"是",{"$f":"VLOOKUP(D33,[1]sheet1!$A$1:$C$293,2,0)","v":2300},"是","否","/","是","毕业",{"v":0,"d":"¥0.00"}]
[29,"电子商务",1,"20220606122","麦春蓉",0,"无","是",42.5,{"$f":"VLOOKUP(D34,[1]sheet1!$A:$C,3,0)","v":273},"是",{"$f":"VLOOKUP(D34,[1]sheet1!$A$1:$C$293,2,0)","v":2600},"是","否","/","是","毕业",{"v":0,"d":"¥0.00"}]
[30,"电子商务",1,"20220606025","韦艳麟",0,"无","是",28.5,{"$f":"VLOOKUP(D35,[1]sheet1!$A:$C,3,0)","v":235},"是",{"$f":"VLOOKUP(D35,[1]sheet1!$A$1:$C$293,2,0)","v":2270},"是","是","是","是","毕业",{"v":0,"d":"¥0.00"}]
[31,"电子商务",1,"20220606014","刘元俊",0,"无","是",41.5,{"$f":"VLOOKUP(D36,[1]sheet1!$A:$C,3,0)","v":248},"是",{"$f":"VLOOKUP(D36,[1]sheet1!$A$1:$C$293,2,0)","v":1830},"是","否","/","是","毕业",{"v":0,"d":"¥0.00"}]
[32,"电子商务",1,"20220606078","贲和靖",0,"无","是",38.5,{"$f":"VLOOKUP(D37,[1]sheet1!$A:$C,3,0)","v":259},"是",{"$f":"VLOOKUP(D37,[1]sheet1!$A$1:$C$293,2,0)","v":2140},"是","否","/","是","毕业",{"v":0,"d":"¥0.00"}]
[33,"电子商务",1,"20220606151","徐己振",0,"无","是",46.5,{"$f":"VLOOKUP(D38,[1]sheet1!$A:$C,3,0)","v":443},"是",{"$f":"VLOOKUP(D38,[1]sheet1!$A$1:$C$293,2,0)","v":2190},"是","否","/","是","毕业",{"v":0,"d":"¥0.00"}]
[34,"电子商务",1,"20220606147","吴施敏",0,"无","是",42.5,{"$f":"VLOOKUP(D39,[1]sheet1!$A:$C,3,0)","v":409},"是",{"$f":"VLOOKUP(D39,[1]sheet1!$A$1:$C$293,2,0)","v":2640},"是","否","/","是","毕业",{"v":0,"d":"¥0.00"}]
[35,"电子商务",1,"20220606105","吴秋楠",0,"无","是",44.5,{"$f":"VLOOKUP(D40,[1]sheet1!$A:$C,3,0)","v":249},"是",{"$f":"VLOOKUP(D40,[1]sheet1!$A$1:$C$293,2,0)","v":1940},"是","否","/","是","毕业",{"v":0,"d":"¥0.00"}]
[36,"电子商务",1,"20220606132","莫月华",0,"无","是",41.5,{"$f":"VLOOKUP(D41,[1]sheet1!$A:$C,3,0)","v":461},"是",{"$f":"VLOOKUP(D41,[1]sheet1!$A$1:$C$293,2,0)","v":4360},"是","否","/","是","毕业",{"v":0,"d":"¥0.00"}]
[37,"电子商务",1,"20220606139","肖海霞",0,"无","是",43.5,{"$f":"VLOOKUP(D42,[1]sheet1!$A:$C,3,0)","v":427},"是",{"$f":"VLOOKUP(D42,[1]sheet1!$A$1:$C$293,2,0)","v":2440},"是","否","/","是","毕业",{"v":0,"d":"¥0.00"}]
[38,"电子商务",1,"20220606013","潘茜宁",0,"无","是",44.5,{"$f":"VLOOKUP(D43,[1]sheet1!$A:$C,3,0)","v":350},"是",{"$f":"VLOOKUP(D43,[1]sheet1!$A$1:$C$293,2,0)","v":3160},"是","否","/","是","毕业",{"v":0,"d":"¥0.00"}]
[39,"电子商务",1,"20220508051","黄瀚洲",0,"无","是",40.5,{"$f":"VLOOKUP(D44,[1]sheet1!$A:$C,3,0)","v":274},"是",{"$f":"VLOOKUP(D44,[1]sheet1!$A$1:$C$293,2,0)","v":2080},"是","是","是","是","毕业",{"v":0,"d":"¥0.00"}]
[40,"电子商务",1,"20220606035","郑雅惠",0,"无","是",44.5,{"$f":"VLOOKUP(D45,[1]sheet1!$A:$C,3,0)","v":288},"是",{"$f":"VLOOKUP(D45,[1]sheet1!$A$1:$C$293,2,0)","v":2140},"是","否","/","是","毕业",{"v":0,"d":"¥0.00"}]
[41,"电子商务",1,"20220606017","许怡凤",0,"无","是",42.5,{"$f":"VLOOKUP(D46,[1]sheet1!$A:$C,3,0)","v":412},"是",{"$f":"VLOOKUP(D46,[1]sheet1!$A$1:$C$293,2,0)","v":2470},"是","否","/","是","毕业",{"v":0,"d":"¥0.00"}]
[42,"电子商务",1,"20220606130","陈钰铧",0,"无","是",47.5,{"$f":"VLOOKUP(D47,[1]sheet1!$A:$C,3,0)","v":246},"是",{"$f":"VLOOKUP(D47,[1]sheet1!$A$1:$C$293,2,0)","v":2680},"是","否","/","是","毕业",{"v":0,"d":"¥0.00"}]
[43,"电子商务",1,"20220606137","李盈燕",0,"无","是",44.5,{"$f":"VLOOKUP(D48,[1]sheet1!$A:$C,3,0)","v":266},"是",{"$f":"VLOOKUP(D48,[1]sheet1!$A$1:$C$293,2,0)","v":2300},"是","否","/","是","毕业",{"v":0,"d":"¥0.00"}]
[44,"电子商务",1,"20220606031","罗耀祖",0,"无","是",45.5,{"$f":"VLOOKUP(D49,[1]sheet1!$A:$C,3,0)","v":244},"是",{"$f":"VLOOKUP(D49,[1]sheet1!$A$1:$C$293,2,0)","v":2090},"是","否","/","是","毕业",{"v":0,"d":"¥0.00"}]
[45,"电子商务",1,"20220606072","韦海文",0,"无","是",42.5,{"$f":"VLOOKUP(D50,[1]sheet1!$A:$C,3,0)","v":367},"是",{"$f":"VLOOKUP(D50,[1]sheet1!$A$1:$C$293,2,0)","v":3200},"是","否","/","是","毕业",{"v":0,"d":"¥0.00"}]
[46,"电子商务",1,"20220606118","蔡小红",0,"无","是",43.5,{"$f":"VLOOKUP(D51,[1]sheet1!$A:$C,3,0)","v":316},"是",{"$f":"VLOOKUP(D51,[1]sheet1!$A$1:$C$293,2,0)","v":2460},"是","否","/","是","毕业",{"v":0,"d":"¥0.00"}]
[47,"电子商务",1,"20220606052","贾琦",0,"无","是",48.5,{"$f":"VLOOKUP(D52,[1]sheet1!$A:$C,3,0)","v":462},"是",{"$f":"VLOOKUP(D52,[1]sheet1!$A$1:$C$293,2,0)","v":3160},"是","否","/","是","毕业",{"v":0,"d":"¥0.00"}]
[48,"电子商务",1,"20220606039","王玉红",0,"无","是",43.5,{"$f":"VLOOKUP(D53,[1]sheet1!$A:$C,3,0)","v":307},"是",{"$f":"VLOOKUP(D53,[1]sheet1!$A$1:$C$293,2,0)","v":2560},"是","否","/","是","毕业",{"v":0,"d":"¥0.00"}]
[49,"电子商务",1,"20220606117","吴湘怡",0,"无","是",41.5,{"$f":"VLOOKUP(D54,[1]sheet1!$A:$C,3,0)","v":374},"是",{"$f":"VLOOKUP(D54,[1]sheet1!$A$1:$C$293,2,0)","v":2540},"是","否","/","是","毕业",{"v":0,"d":"¥0.00"}]
[50,"电子商务",1,"20220606114","潘柳柳",0,"无","是",48.5,{"$f":"VLOOKUP(D55,[1]sheet1!$A:$C,3,0)","v":342},"是",{"$f":"VLOOKUP(D55,[1]sheet1!$A$1:$C$293,2,0)","v":2540},"是","否","/","是","毕业",{"v":0,"d":"¥0.00"}]
[51,"电子商务",1,"20220606115","曾瑞璋",0,"无","是",43.5,{"$f":"VLOOKUP(D56,[1]sheet1!$A:$C,3,0)","v":257},"是",{"$f":"VLOOKUP(D56,[1]sheet1!$A$1:$C$293,2,0)","v":1890},"是","否","/","是","毕业",{"v":0,"d":"¥0.00"}]
[52,"电子商务",1,"20220606113","秦素珍",0,"无","是",44.5,{"$f":"VLOOKUP(D57,[1]sheet1!$A:$C,3,0)","v":316},"是",{"$f":"VLOOKUP(D57,[1]sheet1!$A$1:$C$293,2,0)","v":3060},"是","否","/","是","毕业",{"v":0,"d":"¥0.00"}]
[53,"电子商务",1,"20220606016","吴晓磊",0,"无","是",44.5,{"$f":"VLOOKUP(D58,[1]sheet1!$A:$C,3,0)","v":253},"是",{"$f":"VLOOKUP(D58,[1]sheet1!$A$1:$C$293,2,0)","v":2190},"是","否","/","是","毕业",{"v":0,"d":"¥0.00"}]
[54,"电子商务",1,"20220606145","叶姿麟",0,"无","是",43.5,{"$f":"VLOOKUP(D59,[1]sheet1!$A:$C,3,0)","v":332},"是",{"$f":"VLOOKUP(D59,[1]sheet1!$A$1:$C$293,2,0)","v":2940},"是","否","/","是","毕业",{"v":0,"d":"¥0.00"}]
[55,"电子商务",2,"20210606035","梁欣悦",0,"无","是",41.5,{"$f":"VLOOKUP(D60,[1]sheet1!$A:$C,3,0)","v":240},"是",{"$f":"VLOOKUP(D60,[1]sheet1!$A$1:$C$293,2,0)","v":1920},"是","否","/","是","毕业",{"v":0,"d":"¥0.00"}]
[56,"电子商务",2,"20220606153","章涛",1,"营销基础","是",44.5,{"$f":"VLOOKUP(D61,[1]sheet1!$A:$C,3,0)","v":253},"是",{"$f":"VLOOKUP(D61,[1]sheet1!$A$1:$C$293,2,0)","v":2010},"是","否","/","否","结业",{"v":0,"d":"¥0.00"},1]
[57,"电子商务",2,"20220606157","辜胜航",3,"网店客户关系管理、思想道德与法治、职业发展与就业指导（一）","是",40,{"$f":"VLOOKUP(D62,[1]sheet1!$A:$C,3,0)","v":297},"是",{"$f":"VLOOKUP(D62,[1]sheet1!$A$1:$C$293,2,0)","v":1950},"是","否","/","否","结业",{"v":0,"d":"¥0.00"},1]
[58,"电子商务",2,"20220606142","罗亚花",0,"无","是",43.5,{"$f":"VLOOKUP(D63,[1]sheet1!$A:$C,3,0)","v":253},"是",{"$f":"VLOOKUP(D63,[1]sheet1!$A$1:$C$293,2,0)","v":2360},"是","否","/","是","毕业",{"v":0,"d":"¥0.00"}]
[59,"电子商务",2,"20220606106","史倩倩",0,"无","是",37.5,{"$f":"VLOOKUP(D64,[1]sheet1!$A:$C,3,0)","v":248},"是",{"$f":"VLOOKUP(D64,[1]sheet1!$A$1:$C$293,2,0)","v":2160},"是","否","/","是","毕业",{"v":0,"d":"¥0.00"}]
[60,"电子商务",2,"20220606160","努尔伊萨拉姆·努尔艾合麦提",0,"无","是",43.5,{"$f":"VLOOKUP(D65,[1]sheet1!$A:$C,3,0)","v":304},"是",{"$f":"VLOOKUP(D65,[1]sheet1!$A$1:$C$293,2,0)","v":2890},"是","否","/","是","毕业",{"v":0,"d":"¥0.00"}]
[61,"电子商务",2,"20220606158","木尼然·玉买尔",0,"无","是",43.5,{"$f":"VLOOKUP(D66,[1]sheet1!$A:$C,3,0)","v":305},"是",{"$f":"VLOOKUP(D66,[1]sheet1!$A$1:$C$293,2,0)","v":2750},"是","否","/","是","毕业",{"v":0,"d":"¥0.00"}]
[62,"电子商务",2,"20220606155","孟原颉",0,"无","是",37.5,{"$f":"VLOOKUP(D67,[1]sheet1!$A:$C,3,0)","v":284},"是",{"$f":"VLOOKUP(D67,[1]sheet1!$A$1:$C$293,2,0)","v":2790},"是","否","/","是","毕业",{"v":0,"d":"¥0.00"}]
[63,"电子商务",2,"20220606143","李思娣",0,"无","是",40.5,{"$f":"VLOOKUP(D68,[1]sheet1!$A:$C,3,0)","v":271},"是",{"$f":"VLOOKUP(D68,[1]sheet1!$A$1:$C$293,2,0)","v":2320},"是","否","/","是","毕业",{"v":0,"d":"¥0.00"}]
[64,"电子商务",2,"20220606108","王小妹",0,"无","是",41.5,{"$f":"VLOOKUP(D69,[1]sheet1!$A:$C,3,0)","v":268},"是",{"$f":"VLOOKUP(D69,[1]sheet1!$A$1:$C$293,2,0)","v":2250},"是","否","/","是","毕业",{"v":0,"d":"¥0.00"}]
[65,"电子商务",2,"20220606107","雷旺",0,"无","是",39.5,{"$f":"VLOOKUP(D70,[1]sheet1!$A:$C,3,0)","v":250},"是",{"$f":"VLOOKUP(D70,[1]sheet1!$A$1:$C$293,2,0)","v":2290},"是","否","/","是","毕业",{"v":0,"d":"¥0.00"}]
[66,"电子商务",2,"20220606034","余宏丹",0,"无","是",45.5,{"$f":"VLOOKUP(D71,[1]sheet1!$A:$C,3,0)","v":308},"是",{"$f":"VLOOKUP(D71,[1]sheet1!$A$1:$C$293,2,0)","v":2160},"是","否","/","是","毕业",{"v":0,"d":"¥0.00"}]
[67,"电子商务",2,"20220610095","易海青",0,"无","是",43.5,{"$f":"VLOOKUP(D72,[1]sheet1!$A:$C,3,0)","v":400},"是",{"$f":"VLOOKUP(D72,[1]sheet1!$A$1:$C$293,2,0)","v":2140},"是","否","/","是","毕业",{"v":0,"d":"¥0.00"}]
[68,"电子商务",2,"20210606209","梁桂玲",0,"无","是",42.5,{"$f":"VLOOKUP(D73,[1]sheet1!$A:$C,3,0)","v":318},"是",{"$f":"VLOOKUP(D73,[1]sheet1!$A$1:$C$293,2,0)","v":2960},"是","否","/","是","毕业",{"v":0,"d":"¥0.00"}]
[69,"电子商务",2,"20220606019","李林",0,"无","是",43.5,{"$f":"VLOOKUP(D74,[1]sheet1!$A:$C,3,0)","v":284},"是",{"$f":"VLOOKUP(D74,[1]sheet1!$A$1:$C$293,2,0)","v":2210},"是","否","/","是","毕业",{"v":0,"d":"¥0.00"}]
[70,"电子商务",2,"20220606111","钟国安",0,"无","是",43.5,{"$f":"VLOOKUP(D75,[1]sheet1!$A:$C,3,0)","v":381},"是",{"$f":"VLOOKUP(D75,[1]sheet1!$A$1:$C$293,2,0)","v":2740},"是","否","/","是","毕业",{"v":0,"d":"¥0.00"}]
[71,"电子商务",2,"20220606051","冼丽君",0,"无","是",41.5,{"$f":"VLOOKUP(D76,[1]sheet1!$A:$C,3,0)","v":249},"是",{"$f":"VLOOKUP(D76,[1]sheet1!$A$1:$C$293,2,0)","v":2340},"是","否","/","是","毕业",{"v":0,"d":"¥0.00"}]
[72,"电子商务",2,"20220606023","曹程阳",0,"无","是",47.5,{"$f":"VLOOKUP(D77,[1]sheet1!$A:$C,3,0)","v":364},"是",{"$f":"VLOOKUP(D77,[1]sheet1!$A$1:$C$293,2,0)","v":2920},"是","否","/","是","毕业",{"v":0,"d":"¥0.00"}]
[73,"电子商务",2,"20220606043","李锦雄",0,"无","是",37.5,{"$f":"VLOOKUP(D78,[1]sheet1!$A:$C,3,0)","v":335},"是",{"$f":"VLOOKUP(D78,[1]sheet1!$A$1:$C$293,2,0)","v":3440},"是","否","/","是","毕业",{"v":0,"d":"¥0.00"}]
[74,"电子商务",2,"20220708028","杨敏",0,"无","是",40.5,{"$f":"VLOOKUP(D79,[1]sheet1!$A:$C,3,0)","v":267},"是",{"$f":"VLOOKUP(D79,[1]sheet1!$A$1:$C$293,2,0)","v":2330},"是","否","/","是","毕业",{"v":0,"d":"¥0.00"}]
[75,"电子商务",2,"20220606135","谢梅婷",0,"无","是",41.5,{"$f":"VLOOKUP(D80,[1]sheet1!$A:$C,3,0)","v":302},"是",{"$f":"VLOOKUP(D80,[1]sheet1!$A$1:$C$293,2,0)","v":2650},"是","否","/","是","毕业",{"v":0,"d":"¥0.00"}]
[76,"电子商务",2,"20220606040","凌玉芬",0,"无","是",41.5,{"$f":"VLOOKUP(D81,[1]sheet1!$A:$C,3,0)","v":266},"是",{"$f":"VLOOKUP(D81,[1]sheet1!$A$1:$C$293,2,0)","v":2440},"是","否","/","是","毕业",{"v":0,"d":"¥0.00"}]
[77,"电子商务",2,"20220606124","莫慧红",0,"无","是",48.5,{"$f":"VLOOKUP(D82,[1]sheet1!$A:$C,3,0)","v":327},"是",{"$f":"VLOOKUP(D82,[1]sheet1!$A$1:$C$293,2,0)","v":2240},"是","否","/","是","毕业",{"v":0,"d":"¥0.00"}]
[78,"电子商务",2,"20220606011","梁丽琳",0,"无","是",44.5,{"$f":"VLOOKUP(D83,[1]sheet1!$A:$C,3,0)","v":400},"是",{"$f":"VLOOKUP(D83,[1]sheet1!$A$1:$C$293,2,0)","v":3170},"是","否","/","是","毕业",{"v":0,"d":"¥0.00"}]
[79,"电子商务",2,"20220606024","赵善富",0,"无","是",37.5,{"$f":"VLOOKUP(D84,[1]sheet1!$A:$C,3,0)","v":364},"是",{"$f":"VLOOKUP(D84,[1]sheet1!$A$1:$C$293,2,0)","v":3160},"是","否","/","是","毕业",{"v":0,"d":"¥0.00"}]
[80,"电子商务",2,"20220606008","李连星",1,"预就业实习（整周实践）","是",39.5,{"$f":"VLOOKUP(D85,[1]sheet1!$A:$C,3,0)","v":347},"是",{"$f":"VLOOKUP(D85,[1]sheet1!$A$1:$C$293,2,0)","v":2910},"是","否","/","否","结业",{"v":0,"d":"¥0.00"},1]
[81,"电子商务",2,"20220606001","李艳云",0,"无","是",41.5,{"$f":"VLOOKUP(D86,[1]sheet1!$A:$C,3,0)","v":359},"是",{"$f":"VLOOKUP(D86,[1]sheet1!$A$1:$C$293,2,0)","v":3560},"是","否","/","是","毕业",{"v":0,"d":"¥0.00"}]
[82,"电子商务",2,"20220107087","张珍梅",0,"无","是",42.5,{"$f":"VLOOKUP(D87,[1]sheet1!$A:$C,3,0)","v":269},"是",{"$f":"VLOOKUP(D87,[1]sheet1!$A$1:$C$293,2,0)","v":2450},"是","否","/","是","毕业",{"v":0,"d":"¥0.00"}]
[83,"电子商务",2,"20220606150","白玉娜",0,"无","是",40.5,{"$f":"VLOOKUP(D88,[1]sheet1!$A:$C,3,0)","v":264},"是",{"$f":"VLOOKUP(D88,[1]sheet1!$A$1:$C$293,2,0)","v":2290},"是","否","/","是","毕业",{"v":0,"d":"¥0.00"}]
[84,"电子商务",2,"20220606119","陈泰峰",0,"无","是",37.5,{"$f":"VLOOKUP(D89,[1]sheet1!$A:$C,3,0)","v":273},"是",{"$f":"VLOOKUP(D89,[1]sheet1!$A$1:$C$293,2,0)","v":2660},"是","否","/","是","毕业",{"v":0,"d":"¥0.00"}]
[85,"电子商务",2,"20220606005","陆伟豪",1,"预就业实习（整周实践）","是",38,{"$f":"VLOOKUP(D90,[1]sheet1!$A:$C,3,0)","v":289},"是",{"$f":"VLOOKUP(D90,[1]sheet1!$A$1:$C$293,2,0)","v":1860},"是","否","/","否","结业",{"v":0,"d":"¥0.00"},1]
[86,"电子商务",2,"20220604036","宋思颖",0,"无","是",41.5,{"$f":"VLOOKUP(D91,[1]sheet1!$A:$C,3,0)","v":244},"是",{"$f":"VLOOKUP(D91,[1]sheet1!$A$1:$C$293,2,0)","v":1870},"是","否","/","是","毕业",{"v":0,"d":"¥0.00"}]
[87,"电子商务",2,"20220606036","蒙宏俊",0,"无","是",45.5,{"$f":"VLOOKUP(D92,[1]sheet1!$A:$C,3,0)","v":286},"是",{"$f":"VLOOKUP(D92,[1]sheet1!$A$1:$C$293,2,0)","v":2240},"是","否","/","是","毕业",{"v":0,"d":"¥0.00"}]
[88,"电子商务",2,"20220606032","施建锋",0,"无","是",37.5,{"$f":"VLOOKUP(D93,[1]sheet1!$A:$C,3,0)","v":381},"是",{"$f":"VLOOKUP(D93,[1]sheet1!$A$1:$C$293,2,0)","v":3170},"是","否","/","是","毕业",{"v":0,"d":"¥0.00"}]
[89,"电子商务",2,"20220606006","李凯莹",0,"无","是",42.5,{"$f":"VLOOKUP(D94,[1]sheet1!$A:$C,3,0)","v":364},"是",{"$f":"VLOOKUP(D94,[1]sheet1!$A$1:$C$293,2,0)","v":3080},"是","否","/","是","毕业",{"v":0,"d":"¥0.00"}]
[90,"电子商务",2,"20220606125","覃秀芳",0,"无","是",44.5,{"$f":"VLOOKUP(D95,[1]sheet1!$A:$C,3,0)","v":302},"是",{"$f":"VLOOKUP(D95,[1]sheet1!$A$1:$C$293,2,0)","v":2400},"是","否","/","是","毕业",{"v":0,"d":"¥0.00"}]
[91,"电子商务",2,"20220606041","田业康",0,"无","是",39,{"$f":"VLOOKUP(D96,[1]sheet1!$A:$C,3,0)","v":229},"是",{"$f":"VLOOKUP(D96,[1]sheet1!$A$1:$C$293,2,0)","v":1970},"是","否","/","是","毕业",{"v":0,"d":"¥0.00"}]
[92,"电子商务",2,"20220606030","车柳玲",0,"无","是",40.5,{"$f":"VLOOKUP(D97,[1]sheet1!$A:$C,3,0)","v":346},"是",{"$f":"VLOOKUP(D97,[1]sheet1!$A$1:$C$293,2,0)","v":3460},"是","否","/","是","毕业",{"v":0,"d":"¥0.00"}]
[93,"电子商务",2,"20220606120","张欣宇",0,"无","是",41.5,{"$f":"VLOOKUP(D98,[1]sheet1!$A:$C,3,0)","v":280},"是",{"$f":"VLOOKUP(D98,[1]sheet1!$A$1:$C$293,2,0)","v":2540},"是","否","/","是","毕业",{"v":0,"d":"¥0.00"}]
[94,"电子商务",2,"20220606010","陈镇球",1,"营销基础","是",45,{"$f":"VLOOKUP(D99,[1]sheet1!$A:$C,3,0)","v":247},"是",{"$f":"VLOOKUP(D99,[1]sheet1!$A$1:$C$293,2,0)","v":2070},"是","否","/","否","结业",{"v":0,"d":"¥0.00"},1]
[95,"电子商务",2,"20220606048","李美坚",0,"无","是",43.5,{"$f":"VLOOKUP(D100,[1]sheet1!$A:$C,3,0)","v":299},"是",{"$f":"VLOOKUP(D100,[1]sheet1!$A$1:$C$293,2,0)","v":2090},"是","否","/","是","毕业",{"v":0,"d":"¥0.00"}]
[96,"电子商务",2,"20220606123","杨舒媛",0,"无","是",47.5,{"$f":"VLOOKUP(D101,[1]sheet1!$A:$C,3,0)","v":321},"是",{"$f":"VLOOKUP(D101,[1]sheet1!$A$1:$C$293,2,0)","v":2750},"是","否","/","是","毕业",{"v":0,"d":"¥0.00"}]
[97,"电子商务",2,"20220606042","陈钊",0,"无","是",38.5,{"$f":"VLOOKUP(D102,[1]sheet1!$A:$C,3,0)","v":348},"是",{"$f":"VLOOKUP(D102,[1]sheet1!$A$1:$C$293,2,0)","v":3330},"是","否","/","是","毕业",{"v":0,"d":"¥0.00"}]
[98,"电子商务",2,"20220606128","黄晓梅",0,"无","是",45.5,{"$f":"VLOOKUP(D103,[1]sheet1!$A:$C,3,0)","v":374},"是",{"$f":"VLOOKUP(D103,[1]sheet1!$A$1:$C$293,2,0)","v":2520},"是","否","/","是","毕业",{"v":0,"d":"¥0.00"}]
[99,"电子商务",2,"20220606033","孔维锦",1,"营销基础","是",43.5,{"$f":"VLOOKUP(D104,[1]sheet1!$A:$C,3,0)","v":373},"是",{"$f":"VLOOKUP(D104,[1]sheet1!$A$1:$C$293,2,0)","v":1940},"是","否","/","否","结业",{"v":0,"d":"¥0.00"},1]
[100,"电子商务",2,"20220606055","邓燕媚",0,"无","是",41.5,{"$f":"VLOOKUP(D105,[1]sheet1!$A:$C,3,0)","v":266},"是",{"$f":"VLOOKUP(D105,[1]sheet1!$A$1:$C$293,2,0)","v":2460},"是","否","/","是","毕业",{"v":0,"d":"¥0.00"}]
[101,"电子商务",2,"20220410058","李冰冰",0,"无","是",41.5,{"$f":"VLOOKUP(D106,[1]sheet1!$A:$C,3,0)","v":255},"是",{"$f":"VLOOKUP(D106,[1]sheet1!$A$1:$C$293,2,0)","v":2280},"是","否","/","是","毕业",{"v":0,"d":"¥0.00"}]
[102,"电子商务",2,"20220606015","覃范焯",0,"无","是",38.5,{"$f":"VLOOKUP(D107,[1]sheet1!$A:$C,3,0)","v":307},"是",{"$f":"VLOOKUP(D107,[1]sheet1!$A$1:$C$293,2,0)","v":3100},"是","否","/","是","毕业",{"v":0,"d":"¥0.00"}]
[103,"电子商务",2,"20220606028","祝金连",0,"无","是",40.5,{"$f":"VLOOKUP(D108,[1]sheet1!$A:$C,3,0)","v":334},"是",{"$f":"VLOOKUP(D108,[1]sheet1!$A$1:$C$293,2,0)","v":3220},"是","否","/","是","毕业",{"v":0,"d":"¥0.00"}]
[104,"电子商务",2,"20220606009","宁春燕",0,"无","是",41.5,{"$f":"VLOOKUP(D109,[1]sheet1!$A:$C,3,0)","v":263},"是",{"$f":"VLOOKUP(D109,[1]sheet1!$A$1:$C$293,2,0)","v":2270},"是","否","/","是","毕业",{"v":0,"d":"¥0.00"}]
[105,"电子商务",2,"20220222049","杨树",0,"无","是",43.5,{"$f":"VLOOKUP(D110,[1]sheet1!$A:$C,3,0)","v":446},"是",{"$f":"VLOOKUP(D110,[1]sheet1!$A$1:$C$293,2,0)","v":2760},"是","否","/","是","毕业",{"v":0,"d":"¥0.00"}]
[106,"电子商务",2,"20220606144","黎钦丰",0,"无","是",37.5,{"$f":"VLOOKUP(D111,[1]sheet1!$A:$C,3,0)","v":392},"是",{"$f":"VLOOKUP(D111,[1]sheet1!$A$1:$C$293,2,0)","v":3900},"是","否","/","是","毕业",{"v":0,"d":"¥0.00"}]
[107,"电子商务",2,"20220606110","刘梅秋",0,"无","是",45.5,{"$f":"VLOOKUP(D112,[1]sheet1!$A:$C,3,0)","v":328},"是",{"$f":"VLOOKUP(D112,[1]sheet1!$A$1:$C$293,2,0)","v":3290},"是","否","/","是","毕业",{"v":0,"d":"¥0.00"}]
[108,"酒店管理与数字化运营",1,"20220610005","周梦婷",0,"无","是",26,{"$f":"VLOOKUP(D113,[1]sheet1!$A:$C,3,0)","v":261},"是",{"$f":"VLOOKUP(D113,[1]sheet1!$A$1:$C$293,2,0)","v":2300},"是","否","/","是","毕业",{"v":0,"d":"¥0.00"}]
[109,"酒店管理与数字化运营",1,"20220610077","张龄",0,"无","是",28,{"$f":"VLOOKUP(D114,[1]sheet1!$A:$C,3,0)","v":230},"是",{"$f":"VLOOKUP(D114,[1]sheet1!$A$1:$C$293,2,0)","v":2350},"是","否","/","是","毕业",{"v":0,"d":"¥0.00"}]
[110,"酒店管理与数字化运营",1,"20220610096","邱冬",0,"无","是",28,{"$f":"VLOOKUP(D115,[1]sheet1!$A:$C,3,0)","v":428},"是",{"$f":"VLOOKUP(D115,[1]sheet1!$A$1:$C$293,2,0)","v":3080},"是","否","/","是","毕业",{"v":0,"d":"¥0.00"}]
[111,"酒店管理与数字化运营",1,"20220610055","卢佳婷",0,"无","是",26,{"$f":"VLOOKUP(D116,[1]sheet1!$A:$C,3,0)","v":243},"是",{"$f":"VLOOKUP(D116,[1]sheet1!$A$1:$C$293,2,0)","v":2190},"是","否","/","是","毕业",{"v":0,"d":"¥0.00"}]
[112,"酒店管理与数字化运营",1,"20220610074","覃秋玉",0,"无","是",28,{"$f":"VLOOKUP(D117,[1]sheet1!$A:$C,3,0)","v":268},"是",{"$f":"VLOOKUP(D117,[1]sheet1!$A$1:$C$293,2,0)","v":2330},"是","否","/","是","毕业",{"v":0,"d":"¥0.00"}]
[113,"酒店管理与数字化运营",1,"20220610090","董晓雨",0,"无","是",27,{"$f":"VLOOKUP(D118,[1]sheet1!$A:$C,3,0)","v":447},"是",{"$f":"VLOOKUP(D118,[1]sheet1!$A$1:$C$293,2,0)","v":3180},"是","否","/","是","毕业",{"v":0,"d":"¥0.00"}]
[114,"酒店管理与数字化运营",1,"20220610075","熊巧艳",0,"无","是",26,{"$f":"VLOOKUP(D119,[1]sheet1!$A:$C,3,0)","v":268},"是",{"$f":"VLOOKUP(D119,[1]sheet1!$A$1:$C$293,2,0)","v":2450},"是","否","/","是","毕业",{"v":0,"d":"¥0.00"}]
[115,"酒店管理与数字化运营",1,"20220610041","卢玉清",0,"无","是",29,{"$f":"VLOOKUP(D120,[1]sheet1!$A:$C,3,0)","v":303},"是",{"$f":"VLOOKUP(D120,[1]sheet1!$A$1:$C$293,2,0)","v":2410},"是","否","/","是","毕业",{"v":0,"d":"¥0.00"}]
[116,"酒店管理与数字化运营",1,"20220610080","兰思俐",0,"无","是",27,{"$f":"VLOOKUP(D121,[1]sheet1!$A:$C,3,0)","v":298},"是",{"$f":"VLOOKUP(D121,[1]sheet1!$A$1:$C$293,2,0)","v":2400},"是","否","/","是","毕业",{"v":0,"d":"¥0.00"}]
[117,"酒店管理与数字化运营",1,"20220610086","宾美苹",0,"无","是",30,{"$f":"VLOOKUP(D122,[1]sheet1!$A:$C,3,0)","v":400},"是",{"$f":"VLOOKUP(D122,[1]sheet1!$A$1:$C$293,2,0)","v":3290},"是","否","/","是","毕业",{"v":0,"d":"¥0.00"}]
[118,"酒店管理与数字化运营",1,"20220610033","计柳萍",0,"无","是",27,{"$f":"VLOOKUP(D123,[1]sheet1!$A:$C,3,0)","v":443},"是",{"$f":"VLOOKUP(D123,[1]sheet1!$A$1:$C$293,2,0)","v":2330},"是","否","/","是","毕业",{"v":0,"d":"¥0.00"}]
[119,"酒店管理与数字化运营",1,"20220610002","许馨妍",0,"无","是",26,{"$f":"VLOOKUP(D124,[1]sheet1!$A:$C,3,0)","v":266},"是",{"$f":"VLOOKUP(D124,[1]sheet1!$A$1:$C$293,2,0)","v":2780},"是","否","/","是","毕业",{"v":0,"d":"¥0.00"}]
[120,"酒店管理与数字化运营",1,"20220610049","龚德宇",0,"无","是",30,{"$f":"VLOOKUP(D125,[1]sheet1!$A:$C,3,0)","v":256},"是",{"$f":"VLOOKUP(D125,[1]sheet1!$A$1:$C$293,2,0)","v":2410},"是","否","/","是","毕业",{"v":0,"d":"¥0.00"}]
[121,"酒店管理与数字化运营",1,"20220610022","黄良华",0,"无","是",30,{"$f":"VLOOKUP(D126,[1]sheet1!$A:$C,3,0)","v":452},"是",{"$f":"VLOOKUP(D126,[1]sheet1!$A$1:$C$293,2,0)","v":3350},"是","否","/","是","毕业",{"v":0,"d":"¥0.00"}]
[122,"酒店管理与数字化运营",1,"20220601096","潘怡红",0,"无","是",27,{"$f":"VLOOKUP(D127,[1]sheet1!$A:$C,3,0)","v":365},"是",{"$f":"VLOOKUP(D127,[1]sheet1!$A$1:$C$293,2,0)","v":3100},"是","否","/","是","毕业",{"v":0,"d":"¥0.00"}]
[123,"酒店管理与数字化运营",1,"20220610034","龙佳怡",0,"无","是",27,{"$f":"VLOOKUP(D128,[1]sheet1!$A:$C,3,0)","v":323},"是",{"$f":"VLOOKUP(D128,[1]sheet1!$A$1:$C$293,2,0)","v":2510},"是","否","/","是","毕业",{"v":0,"d":"¥0.00"}]
[124,"酒店管理与数字化运营",1,"20220610039","郑乐滢",0,"无","是",26,{"$f":"VLOOKUP(D129,[1]sheet1!$A:$C,3,0)","v":264},"是",{"$f":"VLOOKUP(D129,[1]sheet1!$A$1:$C$293,2,0)","v":2370},"是","否","/","是","毕业",{"v":0,"d":"¥0.00"}]
[125,"酒店管理与数字化运营",1,"20220610038","潘冬梅",0,"无","是",30,{"$f":"VLOOKUP(D130,[1]sheet1!$A:$C,3,0)","v":414},"是",{"$f":"VLOOKUP(D130,[1]sheet1!$A$1:$C$293,2,0)","v":2610},"是","否","/","是","毕业",{"v":0,"d":"¥0.00"}]
[126,"酒店管理与数字化运营",1,"20220610063","覃玲玲",0,"无","是",30,{"$f":"VLOOKUP(D131,[1]sheet1!$A:$C,3,0)","v":392},"是",{"$f":"VLOOKUP(D131,[1]sheet1!$A$1:$C$293,2,0)","v":2490},"是","否","/","是","毕业",{"v":0,"d":"¥0.00"}]
[127,"酒店管理与数字化运营",1,"20220610079","吴远琦",0,"无","是",27,{"$f":"VLOOKUP(D132,[1]sheet1!$A:$C,3,0)","v":298},"是",{"$f":"VLOOKUP(D132,[1]sheet1!$A$1:$C$293,2,0)","v":2250},"是","否","/","是","毕业",{"v":0,"d":"¥0.00"}]
[128,"酒店管理与数字化运营",1,"20220610078","潘志双",0,"无","是",26,{"$f":"VLOOKUP(D133,[1]sheet1!$A:$C,3,0)","v":255},"是",{"$f":"VLOOKUP(D133,[1]sheet1!$A$1:$C$293,2,0)","v":2060},"是","否","/","是","毕业",{"v":0,"d":"¥0.00"}]
[129,"酒店管理与数字化运营",1,"20220610017","张鸿宇",0,"无","是",30,{"$f":"VLOOKUP(D134,[1]sheet1!$A:$C,3,0)","v":370},"是",{"$f":"VLOOKUP(D134,[1]sheet1!$A$1:$C$293,2,0)","v":2840},"是","否","/","是","毕业",{"v":0,"d":"¥0.00"}]
[130,"酒店管理与数字化运营",1,"20220506124","陈静雯",0,"无","是",28,{"$f":"VLOOKUP(D135,[1]sheet1!$A:$C,3,0)","v":248},"是",{"$f":"VLOOKUP(D135,[1]sheet1!$A$1:$C$293,2,0)","v":1930},"是","否","/","是","毕业",{"v":0,"d":"¥0.00"}]
[131,"酒店管理与数字化运营",1,"20220610024","马伟斌",0,"无","是",30,{"$f":"VLOOKUP(D136,[1]sheet1!$A:$C,3,0)","v":356},"是",{"$f":"VLOOKUP(D136,[1]sheet1!$A$1:$C$293,2,0)","v":2840},"是","否","/","是","毕业",{"v":0,"d":"¥0.00"}]
[132,"酒店管理与数字化运营",1,"20220610016","胡玲玲",0,"无","是",28,{"$f":"VLOOKUP(D137,[1]sheet1!$A:$C,3,0)","v":255},"是",{"$f":"VLOOKUP(D137,[1]sheet1!$A$1:$C$293,2,0)","v":2150},"是","否","/","是","毕业",{"v":0,"d":"¥0.00"}]
[133,"酒店管理与数字化运营",1,"20220610028","黄金媛",0,"无","是",28,{"$f":"VLOOKUP(D138,[1]sheet1!$A:$C,3,0)","v":373},"是",{"$f":"VLOOKUP(D138,[1]sheet1!$A$1:$C$293,2,0)","v":2200},"是","否","/","是","毕业",{"v":0,"d":"¥0.00"}]
[134,"酒店管理与数字化运营",2,"20220610081","王光蕾",0,"无","是",28,{"$f":"VLOOKUP(D139,[1]sheet1!$A:$C,3,0)","v":312},"是",{"$f":"VLOOKUP(D139,[1]sheet1!$A$1:$C$293,2,0)","v":2750},"是","否","/","是","毕业",{"v":0,"d":"¥0.00"}]
[135,"酒店管理与数字化运营",2,"20220610020","覃新琪",0,"无","是",28,{"$f":"VLOOKUP(D140,[1]sheet1!$A:$C,3,0)","v":266},"是",{"$f":"VLOOKUP(D140,[1]sheet1!$A$1:$C$293,2,0)","v":1880},"是","否","/","是","毕业",{"v":0,"d":"¥0.00"}]
[136,"酒店管理与数字化运营",2,"20220610092","吴晓丹",0,"无","是",27,{"$f":"VLOOKUP(D141,[1]sheet1!$A:$C,3,0)","v":284},"是",{"$f":"VLOOKUP(D141,[1]sheet1!$A$1:$C$293,2,0)","v":2170},"是","否","/","是","毕业",{"v":0,"d":"¥0.00"}]
[137,"酒店管理与数字化运营",2,"20220610010","李敏",0,"无","是",28,{"$f":"VLOOKUP(D142,[1]sheet1!$A:$C,3,0)","v":245},"是",{"$f":"VLOOKUP(D142,[1]sheet1!$A$1:$C$293,2,0)","v":2100},"是","否","/","是","毕业",{"v":0,"d":"¥0.00"}]
[138,"酒店管理与数字化运营",2,"20220610066","魏怡",0,"无","是",26,{"$f":"VLOOKUP(D143,[1]sheet1!$A:$C,3,0)","v":261},"是",{"$f":"VLOOKUP(D143,[1]sheet1!$A$1:$C$293,2,0)","v":2280},"是","否","/","是","毕业",{"v":0,"d":"¥0.00"}]
[139,"酒店管理与数字化运营",2,"20220610098","覃舒妍",0,"无","是",29,{"$f":"VLOOKUP(D144,[1]sheet1!$A:$C,3,0)","v":225},"是",{"$f":"VLOOKUP(D144,[1]sheet1!$A$1:$C$293,2,0)","v":2120},"是","否","/","是","毕业",{"v":0,"d":"¥0.00"}]
[140,"酒店管理与数字化运营",2,"20220610060","周水英",0,"无","是",27,{"$f":"VLOOKUP(D145,[1]sheet1!$A:$C,3,0)","v":320},"是",{"$f":"VLOOKUP(D145,[1]sheet1!$A$1:$C$293,2,0)","v":2420},"是","否","/","是","毕业",{"v":0,"d":"¥0.00"}]
[141,"酒店管理与数字化运营",2,"20220610009","梁健婷",0,"无","是",28,{"$f":"VLOOKUP(D146,[1]sheet1!$A:$C,3,0)","v":609},"是",{"$f":"VLOOKUP(D146,[1]sheet1!$A$1:$C$293,2,0)","v":2790},"是","否","/","是","毕业",{"v":0,"d":"¥0.00"}]
[142,"酒店管理与数字化运营",2,"20220610091","林鸿晴",0,"无","是",28,{"$f":"VLOOKUP(D147,[1]sheet1!$A:$C,3,0)","v":343},"是",{"$f":"VLOOKUP(D147,[1]sheet1!$A$1:$C$293,2,0)","v":2750},"是","否","/","是","毕业",{"v":0,"d":"¥0.00"}]
[143,"酒店管理与数字化运营",2,"20220610007","黄雅倩",0,"无","是",31,{"$f":"VLOOKUP(D148,[1]sheet1!$A:$C,3,0)","v":265},"是",{"$f":"VLOOKUP(D148,[1]sheet1!$A$1:$C$293,2,0)","v":2070},"是","否","/","是","毕业",{"v":0,"d":"¥0.00"}]
[144,"酒店管理与数字化运营",2,"20220610037","韦爱琴",0,"无","是",27,{"$f":"VLOOKUP(D149,[1]sheet1!$A:$C,3,0)","v":276},"是",{"$f":"VLOOKUP(D149,[1]sheet1!$A$1:$C$293,2,0)","v":2640},"是","否","/","是","毕业",{"v":0,"d":"¥0.00"}]
[145,"酒店管理与数字化运营",2,"20220610053","黄春妍",0,"无","是",28,{"$f":"VLOOKUP(D150,[1]sheet1!$A:$C,3,0)","v":293},"是",{"$f":"VLOOKUP(D150,[1]sheet1!$A$1:$C$293,2,0)","v":2450},"是","否","/","是","毕业",{"v":0,"d":"¥0.00"}]
[146,"酒店管理与数字化运营",2,"20220610029","罗建华",0,"无","是",30,{"$f":"VLOOKUP(D151,[1]sheet1!$A:$C,3,0)","v":249},"是",{"$f":"VLOOKUP(D151,[1]sheet1!$A$1:$C$293,2,0)","v":1870},"是","否","/","是","毕业",{"v":0,"d":"¥0.00"}]
[147,"酒店管理与数字化运营",2,"20220610015","罗秀华",0,"无","是",29,{"$f":"VLOOKUP(D152,[1]sheet1!$A:$C,3,0)","v":263},"是",{"$f":"VLOOKUP(D152,[1]sheet1!$A$1:$C$293,2,0)","v":2280},"是","否","/","是","毕业",{"v":0,"d":"¥0.00"}]
[148,"酒店管理与数字化运营",2,"20220610018","罗武涛",0,"无","是",29,{"$f":"VLOOKUP(D153,[1]sheet1!$A:$C,3,0)","v":240},"是",{"$f":"VLOOKUP(D153,[1]sheet1!$A$1:$C$293,2,0)","v":1880},"是","否","/","是","毕业",{"v":0,"d":"¥0.00"}]
[149,"酒店管理与数字化运营",2,"20220610068","林玲",0,"无","是",27,{"$f":"VLOOKUP(D154,[1]sheet1!$A:$C,3,0)","v":261},"是",{"$f":"VLOOKUP(D154,[1]sheet1!$A$1:$C$293,2,0)","v":2280},"是","否","/","是","毕业",{"v":0,"d":"¥0.00"}]
[150,"酒店管理与数字化运营",2,"20220610089","马胜钊",0,"无","是",32,{"$f":"VLOOKUP(D155,[1]sheet1!$A:$C,3,0)","v":273},"是",{"$f":"VLOOKUP(D155,[1]sheet1!$A$1:$C$293,2,0)","v":1970},"是","否","/","是","毕业",{"v":0,"d":"¥0.00"}]
[151,"酒店管理与数字化运营",2,"20220610014","韦明",0,"无","是",30,{"$f":"VLOOKUP(D156,[1]sheet1!$A:$C,3,0)","v":237},"是",{"$f":"VLOOKUP(D156,[1]sheet1!$A$1:$C$293,2,0)","v":1890},"是","否","/","是","毕业",{"v":0,"d":"¥0.00"}]
[152,"酒店管理与数字化运营",2,"20220610085","曾洲莉",0,"无","是",28,{"$f":"VLOOKUP(D157,[1]sheet1!$A:$C,3,0)","v":451},"是",{"$f":"VLOOKUP(D157,[1]sheet1!$A$1:$C$293,2,0)","v":2520},"是","否","/","是","毕业",{"v":0,"d":"¥0.00"}]
[153,"酒店管理与数字化运营",2,"20220610064","吴妮斯",0,"无","是",30,{"$f":"VLOOKUP(D158,[1]sheet1!$A:$C,3,0)","v":251},"是",{"$f":"VLOOKUP(D158,[1]sheet1!$A$1:$C$293,2,0)","v":2010},"是","否","/","是","毕业",{"v":0,"d":"¥0.00"}]
[154,"酒店管理与数字化运营",2,"20220610043","韦志杭",0,"无","是",30,{"$f":"VLOOKUP(D159,[1]sheet1!$A:$C,3,0)","v":250},"是",1850,"是","否","/","是","毕业",{"v":0,"d":"¥0.00"}]
[155,"酒店管理与数字化运营",2,"20220610056","张裕雪",0,"无","是",29,{"$f":"VLOOKUP(D160,[1]sheet1!$A:$C,3,0)","v":303},"是",{"$f":"VLOOKUP(D160,[1]sheet1!$A$1:$C$293,2,0)","v":2070},"是","否","/","是","毕业",{"v":0,"d":"¥0.00"}]
[156,"酒店管理与数字化运营",2,"20220610051","韦佳琪",0,"无","是",28,{"$f":"VLOOKUP(D161,[1]sheet1!$A:$C,3,0)","v":291},"是",{"$f":"VLOOKUP(D161,[1]sheet1!$A$1:$C$293,2,0)","v":2400},"是","否","/","是","毕业",{"v":0,"d":"¥0.00"}]
[157,"酒店管理与数字化运营",2,"20220610067","刘其彤",0,"无","是",27,{"$f":"VLOOKUP(D162,[1]sheet1!$A:$C,3,0)","v":253},"是",{"$f":"VLOOKUP(D162,[1]sheet1!$A$1:$C$293,2,0)","v":2230},"是","否","/","是","毕业",{"v":0,"d":"¥0.00"}]
[158,"酒店管理与数字化运营",2,"20220610072","甘璐梦",0,"无","是",28,{"$f":"VLOOKUP(D163,[1]sheet1!$A:$C,3,0)","v":253},"是",{"$f":"VLOOKUP(D163,[1]sheet1!$A$1:$C$293,2,0)","v":2330},"是","否","/","是","毕业",{"v":0,"d":"¥0.00"}]
[159,"酒店管理与数字化运营",2,"20220610031","蒋雅芳",0,"无","是",30,{"$f":"VLOOKUP(D164,[1]sheet1!$A:$C,3,0)","v":263},"是",{"$f":"VLOOKUP(D164,[1]sheet1!$A$1:$C$293,2,0)","v":2350},"是","否","/","是","毕业",{"v":0,"d":"¥0.00"}]
[160,"酒店管理与数字化运营",2,"20220610084","李俐霖",0,"无","是",27,{"$f":"VLOOKUP(D165,[1]sheet1!$A:$C,3,0)","v":372},"是",{"$f":"VLOOKUP(D165,[1]sheet1!$A$1:$C$293,2,0)","v":2440},"是","否","/","是","毕业",{"v":0,"d":"¥0.00"}]
[161,"酒店管理与数字化运营",2,"20220610050","熊明基",0,"无","是",30,{"$f":"VLOOKUP(D166,[1]sheet1!$A:$C,3,0)","v":266},"是",{"$f":"VLOOKUP(D166,[1]sheet1!$A$1:$C$293,2,0)","v":2390},"是","否","/","是","毕业",{"v":0,"d":"¥0.00"}]
[162,"酒店管理与数字化运营",2,"20220610012","农秋媚",0,"无","是",26,{"$f":"VLOOKUP(D167,[1]sheet1!$A:$C,3,0)","v":278},"是",{"$f":"VLOOKUP(D167,[1]sheet1!$A$1:$C$293,2,0)","v":2270},"是","否","/","是","毕业",{"v":0,"d":"¥0.00"}]
[163,"旅游管理",1,"20210604019","吴莉萍",7,"短视频营销、直播营销、全国导游基础（三）、劳动教育—工业·匠心、经济数学、习近平新时代中国特色社会主义思想概论、创新与创业实务（二）","是",15,{"$f":"VLOOKUP(D168,[1]sheet1!$A:$C,3,0)","v":262},"是",{"$f":"VLOOKUP(D168,[1]sheet1!$A$1:$C$293,2,0)","v":2370},"是","否","/","否","结业",{"v":853.71,"d":"¥853.71"},1]
[164,"旅游管理",1,"20210604097","韦婧娜",0,"无","是",26.5,{"$f":"VLOOKUP(D169,[1]sheet1!$A:$C,3,0)","v":249},"是",{"$f":"VLOOKUP(D169,[1]sheet1!$A$1:$C$293,2,0)","v":2650},"是","否","/","是","毕业",{"v":0,"d":"¥0.00"}]
[165,"旅游管理",1,"20220604002","方冬锾",0,"无","是",26.5,{"$f":"VLOOKUP(D170,[1]sheet1!$A:$C,3,0)","v":231},"是",{"$f":"VLOOKUP(D170,[1]sheet1!$A$1:$C$293,2,0)","v":2190},"是","否","/","是","毕业",{"v":0,"d":"¥0.00"}]
[166,"旅游管理",1,"20220604003","黎巧妮",0,"无","是",24.5,{"$f":"VLOOKUP(D171,[1]sheet1!$A:$C,3,0)","v":229},"是",{"$f":"VLOOKUP(D171,[1]sheet1!$A$1:$C$293,2,0)","v":2080},"是","否","/","是","毕业",{"v":0,"d":"¥0.00"}]
[167,"旅游管理",1,"20220604004","赵珊琴",0,"无","是",26.5,{"$f":"VLOOKUP(D172,[1]sheet1!$A:$C,3,0)","v":246},"是",{"$f":"VLOOKUP(D172,[1]sheet1!$A$1:$C$293,2,0)","v":2150},"是","否","/","是","毕业",{"v":0,"d":"¥0.00"}]
[168,"旅游管理",1,"20220604008","顾荣英",0,"无","是",26.5,{"$f":"VLOOKUP(D173,[1]sheet1!$A:$C,3,0)","v":238},"是",{"$f":"VLOOKUP(D173,[1]sheet1!$A$1:$C$293,2,0)","v":2230},"是","否","/","是","毕业",{"v":0,"d":"¥0.00"}]
[169,"旅游管理",1,"20220604009","梁爽",0,"无","是",26.5,{"$f":"VLOOKUP(D174,[1]sheet1!$A:$C,3,0)","v":229},"是",{"$f":"VLOOKUP(D174,[1]sheet1!$A$1:$C$293,2,0)","v":2130},"是","否","/","是","毕业",{"v":0,"d":"¥0.00"}]
[170,"旅游管理",1,"20220604015","邱家爵",0,"无","是",28.5,{"$f":"VLOOKUP(D175,[1]sheet1!$A:$C,3,0)","v":225},"是",{"$f":"VLOOKUP(D175,[1]sheet1!$A$1:$C$293,2,0)","v":2300},"是","否","/","是","毕业",{"v":0,"d":"¥0.00"}]
[171,"旅游管理",1,"20220604021","陀辉",0,"无","是",25.5,{"$f":"VLOOKUP(D176,[1]sheet1!$A:$C,3,0)","v":230},"是",{"$f":"VLOOKUP(D176,[1]sheet1!$A$1:$C$293,2,0)","v":2400},"是","否","/","是","毕业",{"v":0,"d":"¥0.00"}]
[172,"旅游管理",1,"20220604027","于传伟",0,"无","是",24.5,{"$f":"VLOOKUP(D177,[1]sheet1!$A:$C,3,0)","v":228},"是",{"$f":"VLOOKUP(D177,[1]sheet1!$A$1:$C$293,2,0)","v":2030},"是","否","/","是","毕业",{"v":0,"d":"¥0.00"}]
[173,"旅游管理",1,"20220604028","梅代成",0,"无","是",25.5,{"$f":"VLOOKUP(D178,[1]sheet1!$A:$C,3,0)","v":264},"是",{"$f":"VLOOKUP(D178,[1]sheet1!$A$1:$C$293,2,0)","v":2200},"是","否","/","是","毕业",{"v":0,"d":"¥0.00"}]
[174,"旅游管理",1,"20220604030","陆能真",0,"无","是",25.5,{"$f":"VLOOKUP(D179,[1]sheet1!$A:$C,3,0)","v":261},"是",{"$f":"VLOOKUP(D179,[1]sheet1!$A$1:$C$293,2,0)","v":1980},"是","否","/","是","毕业",{"v":0,"d":"¥0.00"}]
[175,"旅游管理",1,"20220604031","黄佳莉",0,"无","是",28.5,{"$f":"VLOOKUP(D180,[1]sheet1!$A:$C,3,0)","v":321},"是",{"$f":"VLOOKUP(D180,[1]sheet1!$A$1:$C$293,2,0)","v":2520},"是","否","/","是","毕业",{"v":0,"d":"¥0.00"}]
[176,"旅游管理",1,"20220604032","陆欣",0,"无","是",27.5,{"$f":"VLOOKUP(D181,[1]sheet1!$A:$C,3,0)","v":219},"是",{"$f":"VLOOKUP(D181,[1]sheet1!$A$1:$C$293,2,0)","v":2250},"是","否","/","是","毕业",{"v":0,"d":"¥0.00"}]
[177,"旅游管理",1,"20220604033","叶师宏",0,"无","是",24.5,{"$f":"VLOOKUP(D182,[1]sheet1!$A:$C,3,0)","v":227},"是",{"$f":"VLOOKUP(D182,[1]sheet1!$A$1:$C$293,2,0)","v":2170},"是","否","/","是","毕业",{"v":0,"d":"¥0.00"}]
[178,"旅游管理",1,"20220604035","陈艺玲",0,"无","是",28.5,{"$f":"VLOOKUP(D183,[1]sheet1!$A:$C,3,0)","v":229},"是",{"$f":"VLOOKUP(D183,[1]sheet1!$A$1:$C$293,2,0)","v":2170},"是","否","/","是","毕业",{"v":0,"d":"¥0.00"}]
[179,"旅游管理",1,"20220604037","谢彩莹",0,"无","是",25.5,{"$f":"VLOOKUP(D184,[1]sheet1!$A:$C,3,0)","v":244},"是",{"$f":"VLOOKUP(D184,[1]sheet1!$A$1:$C$293,2,0)","v":2090},"是","否","/","是","毕业",{"v":0,"d":"¥0.00"}]
[180,"旅游管理",1,"20220604038","蒋冬云",0,"无","是",28.5,{"$f":"VLOOKUP(D185,[1]sheet1!$A:$C,3,0)","v":327},"是",{"$f":"VLOOKUP(D185,[1]sheet1!$A$1:$C$293,2,0)","v":3440},"是","否","/","是","毕业",{"v":0,"d":"¥0.00"}]
[181,"旅游管理",1,"20220604039","谭炎林",0,"无","是",25.5,{"$f":"VLOOKUP(D186,[1]sheet1!$A:$C,3,0)","v":239},"是",{"$f":"VLOOKUP(D186,[1]sheet1!$A$1:$C$293,2,0)","v":2340},"是","否","/","是","毕业",{"v":0,"d":"¥0.00"}]
[182,"旅游管理",1,"20220604040","苏会琪",0,"无","是",26.5,{"$f":"VLOOKUP(D187,[1]sheet1!$A:$C,3,0)","v":272},"是",{"$f":"VLOOKUP(D187,[1]sheet1!$A$1:$C$293,2,0)","v":2710},"是","否","/","是","毕业",{"v":0,"d":"¥0.00"}]
[183,"旅游管理",1,"20220604042","陈俊杰",0,"无","是",19.5,{"$f":"VLOOKUP(D188,[1]sheet1!$A:$C,3,0)","v":233},"是",{"$f":"VLOOKUP(D188,[1]sheet1!$A$1:$C$293,2,0)","v":2060},"是","否","/","是","毕业",{"v":0,"d":"¥0.00"}]
[184,"旅游管理",1,"20220604043","张忠丽",0,"无","是",25.5,{"$f":"VLOOKUP(D189,[1]sheet1!$A:$C,3,0)","v":224},"是",{"$f":"VLOOKUP(D189,[1]sheet1!$A$1:$C$293,2,0)","v":2330},"是","否","/","是","毕业",{"v":0,"d":"¥0.00"}]
[185,"旅游管理",1,"20220604046","万宇婷",0,"无","是",26.5,{"$f":"VLOOKUP(D190,[1]sheet1!$A:$C,3,0)","v":358},"是",{"$f":"VLOOKUP(D190,[1]sheet1!$A$1:$C$293,2,0)","v":2760},"是","否","/","是","毕业",{"v":0,"d":"¥0.00"}]
[186,"旅游管理",1,"20220604048","陆业兴",0,"无","是",24.5,{"$f":"VLOOKUP(D191,[1]sheet1!$A:$C,3,0)","v":236},"是",{"$f":"VLOOKUP(D191,[1]sheet1!$A$1:$C$293,2,0)","v":1930},"是","否","/","是","毕业",{"v":0,"d":"¥0.00"}]
[187,"旅游管理",1,"20220604050","李佳妤",0,"无","是",25.5,{"$f":"VLOOKUP(D192,[1]sheet1!$A:$C,3,0)","v":264},"是",{"$f":"VLOOKUP(D192,[1]sheet1!$A$1:$C$293,2,0)","v":2390},"是","否","/","是","毕业",{"v":0,"d":"¥0.00"}]
[188,"旅游管理",1,"20220604052","凌文珍",0,"无","是",25.5,{"$f":"VLOOKUP(D193,[1]sheet1!$A:$C,3,0)","v":221},"是",{"$f":"VLOOKUP(D193,[1]sheet1!$A$1:$C$293,2,0)","v":2170},"是","否","/","是","毕业",{"v":0,"d":"¥0.00"}]
[189,"旅游管理",1,"20220604053","文国栋",0,"无","是",23.5,{"$f":"VLOOKUP(D194,[1]sheet1!$A:$C,3,0)","v":335},"是",{"$f":"VLOOKUP(D194,[1]sheet1!$A$1:$C$293,2,0)","v":1880},"是","否","/","是","毕业",{"v":0,"d":"¥0.00"}]
[190,"旅游管理",1,"20220604056","钟兴弟",0,"无","是",28.5,{"$f":"VLOOKUP(D195,[1]sheet1!$A:$C,3,0)","v":300},"是",{"$f":"VLOOKUP(D195,[1]sheet1!$A$1:$C$293,2,0)","v":2490},"是","否","/","是","毕业",{"v":0,"d":"¥0.00"}]
[191,"旅游管理",1,"20220604057","苏慧玫",0,"无","是",26.5,{"$f":"VLOOKUP(D196,[1]sheet1!$A:$C,3,0)","v":227},"是",{"$f":"VLOOKUP(D196,[1]sheet1!$A$1:$C$293,2,0)","v":2040},"是","否","/","是","毕业",{"v":0,"d":"¥0.00"}]
[192,"旅游管理",1,"20220604059","庞容宁",0,"无","是",26.5,{"$f":"VLOOKUP(D197,[1]sheet1!$A:$C,3,0)","v":234},"是",{"$f":"VLOOKUP(D197,[1]sheet1!$A$1:$C$293,2,0)","v":2540},"是","否","/","是","毕业",{"v":0,"d":"¥0.00"}]
[193,"旅游管理",1,"20220604063","苏颖雯",0,"无","是",24.5,{"$f":"VLOOKUP(D198,[1]sheet1!$A:$C,3,0)","v":243},"是",1720,"否","否","/","否","结业",{"v":6693.83,"d":"¥6,693.83"},3]
[194,"旅游管理",1,"20220604064","韦秋艳",0,"无","是",26.5,{"$f":"VLOOKUP(D199,[1]sheet1!$A:$C,3,0)","v":240},"是",{"$f":"VLOOKUP(D199,[1]sheet1!$A$1:$C$293,2,0)","v":2210},"是","否","/","是","毕业",{"v":0,"d":"¥0.00"}]
[195,"旅游管理",1,"20220604065","黄秋霞",0,"无","是",26.5,{"$f":"VLOOKUP(D200,[1]sheet1!$A:$C,3,0)","v":250},"是",{"$f":"VLOOKUP(D200,[1]sheet1!$A$1:$C$293,2,0)","v":2210},"是","否","/","是","毕业",{"v":0,"d":"¥0.00"}]
[196,"旅游管理",1,"20220604066","宁艳",0,"无","是",26.5,{"$f":"VLOOKUP(D201,[1]sheet1!$A:$C,3,0)","v":224},"是",{"$f":"VLOOKUP(D201,[1]sheet1!$A$1:$C$293,2,0)","v":2110},"是","否","/","是","毕业",{"v":0,"d":"¥0.00"}]
[197,"旅游管理",1,"20220604067","苏邓敏",0,"无","是",27.5,{"$f":"VLOOKUP(D202,[1]sheet1!$A:$C,3,0)","v":278},"是",{"$f":"VLOOKUP(D202,[1]sheet1!$A$1:$C$293,2,0)","v":2810},"是","否","/","是","毕业",{"v":0,"d":"¥0.00"}]
[198,"旅游管理",1,"20220604068","彭臻乐",0,"无","是",20.5,{"$f":"VLOOKUP(D203,[1]sheet1!$A:$C,3,0)","v":239},"是",{"$f":"VLOOKUP(D203,[1]sheet1!$A$1:$C$293,2,0)","v":2290},"是","否","/","是","毕业",{"v":0,"d":"¥0.00"}]
[199,"旅游管理",1,"20220604070","廖思杰",0,"无","是",23.5,{"$f":"VLOOKUP(D204,[1]sheet1!$A:$C,3,0)","v":220},"是",{"$f":"VLOOKUP(D204,[1]sheet1!$A$1:$C$293,2,0)","v":2020},"是","否","/","是","毕业",{"v":0,"d":"¥0.00"}]
[200,"旅游管理",1,"20220604071","蓝秋援",0,"无","是",24.5,{"$f":"VLOOKUP(D205,[1]sheet1!$A:$C,3,0)","v":317},"是",{"$f":"VLOOKUP(D205,[1]sheet1!$A$1:$C$293,2,0)","v":2690},"是","否","/","是","毕业",{"v":0,"d":"¥0.00"}]
[201,"旅游管理",1,"20220604075","江硕",0,"无","是",24.5,{"$f":"VLOOKUP(D206,[1]sheet1!$A:$C,3,0)","v":216},"是",{"$f":"VLOOKUP(D206,[1]sheet1!$A$1:$C$293,2,0)","v":2080},"是","否","/","是","毕业",{"v":0,"d":"¥0.00"}]
[202,"旅游管理",1,"20220604076","韦子涵",0,"无","是",23.5,{"$f":"VLOOKUP(D207,[1]sheet1!$A:$C,3,0)","v":253},"是",1870,"是","否","/","是","毕业",{"v":0,"d":"¥0.00"}]
[203,"旅游管理",1,"20220604083","梁艺贤",0,"无","是",24.5,{"$f":"VLOOKUP(D208,[1]sheet1!$A:$C,3,0)","v":357},"是",{"$f":"VLOOKUP(D208,[1]sheet1!$A$1:$C$293,2,0)","v":2110},"是","否","/","是","毕业",{"v":0,"d":"¥0.00"}]
[204,"旅游管理",1,"20220604086","蒋宏成",0,"无","是",25.5,{"$f":"VLOOKUP(D209,[1]sheet1!$A:$C,3,0)","v":225},"是",{"$f":"VLOOKUP(D209,[1]sheet1!$A$1:$C$293,2,0)","v":2560},"是","否","/","是","毕业",{"v":0,"d":"¥0.00"}]
[205,"旅游管理",1,"20220604087","文哲丹",0,"无","是",25.5,{"$f":"VLOOKUP(D210,[1]sheet1!$A:$C,3,0)","v":238},"是",{"$f":"VLOOKUP(D210,[1]sheet1!$A$1:$C$293,2,0)","v":2250},"是","否","/","是","毕业",{"v":0,"d":"¥0.00"}]
[206,"旅游管理",1,"20220604088","黄春兰",0,"无","是",26.5,{"$f":"VLOOKUP(D211,[1]sheet1!$A:$C,3,0)","v":246},"是",{"$f":"VLOOKUP(D211,[1]sheet1!$A$1:$C$293,2,0)","v":2090},"是","否","/","是","毕业",{"v":0,"d":"¥0.00"}]
[207,"旅游管理",1,"20220604100","罗佩桐",0,"无","是",25.5,{"$f":"VLOOKUP(D212,[1]sheet1!$A:$C,3,0)","v":230},"是",{"$f":"VLOOKUP(D212,[1]sheet1!$A$1:$C$293,2,0)","v":1940},"是","否","/","是","毕业",{"v":0,"d":"¥0.00"}]
[208,"市场营销",1,"20190306834","韦义帅",0,"无","是",33.5,{"$f":"VLOOKUP(D213,[1]sheet1!$A:$C,3,0)","v":319},"是",{"$f":"VLOOKUP(D213,[1]sheet1!$A$1:$C$293,2,0)","v":2820},"是","否","/","是","毕业",{"v":0,"d":"¥0.00"}]
[209,"市场营销",1,"20200505077","湛为锴",3,"销售管理与团队建设、习近平新时代中国特色社会主义思想概论、经济数学","是",30,{"$f":"VLOOKUP(D214,[1]sheet1!$A:$C,3,0)","v":236},"是",{"$f":"VLOOKUP(D214,[1]sheet1!$A$1:$C$293,2,0)","v":2790},"是","否","/","否","结业",{"v":0,"d":"¥0.00"},1]
[210,"市场营销",1,"20210602076","王可欣",3,"经济法、习近平新时代中国特色社会主义思想概论、基础会计","是",34,{"$f":"VLOOKUP(D215,[1]sheet1!$A:$C,3,0)","v":314},"是",{"$f":"VLOOKUP(D215,[1]sheet1!$A$1:$C$293,2,0)","v":5150},"是","否","/","否","结业",{"v":0,"d":"¥0.00"},1]
[211,"市场营销",1,"20220601099","覃佳丽",0,"无","是",34.5,{"$f":"VLOOKUP(D216,[1]sheet1!$A:$C,3,0)","v":261},"是",{"$f":"VLOOKUP(D216,[1]sheet1!$A$1:$C$293,2,0)","v":2740},"是","否","/","是","毕业",{"v":0,"d":"¥0.00"}]
[212,"市场营销",1,"20220601010","庞伟豪",0,"无","是",35.5,{"$f":"VLOOKUP(D217,[1]sheet1!$A:$C,3,0)","v":274},"是",{"$f":"VLOOKUP(D217,[1]sheet1!$A$1:$C$293,2,0)","v":2170},"是","否","/","是","毕业",{"v":0,"d":"¥0.00"}]
[213,"市场营销",1,"20220601020","邹雪银",0,"无","是",35.5,{"$f":"VLOOKUP(D218,[1]sheet1!$A:$C,3,0)","v":304},"是",{"$f":"VLOOKUP(D218,[1]sheet1!$A$1:$C$293,2,0)","v":3570},"是","否","/","是","毕业",{"v":0,"d":"¥0.00"}]
[214,"市场营销",1,"20220601017","蓝旺",1,"销售管理与团队建设","是",29.5,{"$f":"VLOOKUP(D219,[1]sheet1!$A:$C,3,0)","v":268},"是",{"$f":"VLOOKUP(D219,[1]sheet1!$A$1:$C$293,2,0)","v":1980},"是","否","/","否","结业",{"v":0,"d":"¥0.00"},1]
[215,"市场营销",1,"20220601023","李舒华",0,"无","是",34.5,{"$f":"VLOOKUP(D220,[1]sheet1!$A:$C,3,0)","v":390},"是",{"$f":"VLOOKUP(D220,[1]sheet1!$A$1:$C$293,2,0)","v":2630},"是","否","/","是","毕业",{"v":0,"d":"¥0.00"}]
[216,"市场营销",1,"20220601098","刘秋连",0,"无","是",34.5,{"$f":"VLOOKUP(D221,[1]sheet1!$A:$C,3,0)","v":425},"是",{"$f":"VLOOKUP(D221,[1]sheet1!$A$1:$C$293,2,0)","v":2900},"是","否","/","是","毕业",{"v":0,"d":"¥0.00"}]
[217,"市场营销",1,"20220601021","卢贤明",0,"无","是",34.5,{"$f":"VLOOKUP(D222,[1]sheet1!$A:$C,3,0)","v":303},"是",{"$f":"VLOOKUP(D222,[1]sheet1!$A$1:$C$293,2,0)","v":3350},"是","否","/","是","毕业",{"v":0,"d":"¥0.00"}]
[218,"市场营销",1,"20220601070","黄裕琼",0,"无","是",39.5,{"$f":"VLOOKUP(D223,[1]sheet1!$A:$C,3,0)","v":311},"是",{"$f":"VLOOKUP(D223,[1]sheet1!$A$1:$C$293,2,0)","v":3720},"是","否","/","是","毕业",{"v":0,"d":"¥0.00"}]
[219,"市场营销",1,"20210601053","甘少凤",1,"习近平新时代中国特色社会主义思想概论","是",35,{"$f":"VLOOKUP(D224,[1]sheet1!$A:$C,3,0)","v":352},"是",{"$f":"VLOOKUP(D224,[1]sheet1!$A$1:$C$293,2,0)","v":2930},"是","否","/","否","结业",{"v":0,"d":"¥0.00"},1]
[220,"市场营销",1,"20220601004","蒙丽莎",0,"无","是",33.5,{"$f":"VLOOKUP(D225,[1]sheet1!$A:$C,3,0)","v":246},"是",{"$f":"VLOOKUP(D225,[1]sheet1!$A$1:$C$293,2,0)","v":1930},"是","否","/","是","毕业",{"v":0,"d":"¥0.00"}]
[221,"市场营销",1,"20220601072","覃福博",0,"无","是",27.5,{"$f":"VLOOKUP(D226,[1]sheet1!$A:$C,3,0)","v":244},"是",{"$f":"VLOOKUP(D226,[1]sheet1!$A$1:$C$293,2,0)","v":1960},"是","否","/","是","毕业",{"v":0,"d":"¥0.00"}]
[222,"市场营销",1,"20220601064","谢采桦",0,"无","是",35.5,{"$f":"VLOOKUP(D227,[1]sheet1!$A:$C,3,0)","v":710},"是",{"$f":"VLOOKUP(D227,[1]sheet1!$A$1:$C$293,2,0)","v":3070},"是","否","/","是","毕业",{"v":0,"d":"¥0.00"}]
[223,"市场营销",1,"20220601104","黄柳露",0,"无","是",34.5,{"$f":"VLOOKUP(D228,[1]sheet1!$A:$C,3,0)","v":300},"是",{"$f":"VLOOKUP(D228,[1]sheet1!$A$1:$C$293,2,0)","v":3130},"是","否","/","是","毕业",{"v":0,"d":"¥0.00"}]
[224,"市场营销",1,"20220601065","胡婷婷",0,"无","是",41.5,{"$f":"VLOOKUP(D229,[1]sheet1!$A:$C,3,0)","v":365},"是",{"$f":"VLOOKUP(D229,[1]sheet1!$A$1:$C$293,2,0)","v":4000},"是","否","/","是","毕业",{"v":0,"d":"¥0.00"}]
[225,"市场营销",1,"20220601074","杜浠汶",0,"无","是",41.5,{"$f":"VLOOKUP(D230,[1]sheet1!$A:$C,3,0)","v":389},"是",{"$f":"VLOOKUP(D230,[1]sheet1!$A$1:$C$293,2,0)","v":4600},"是","否","/","是","毕业",{"v":0,"d":"¥0.00"}]
[226,"市场营销",1,"20220601089","覃正辉",0,"无","是",29.5,{"$f":"VLOOKUP(D231,[1]sheet1!$A:$C,3,0)","v":256},"是",{"$f":"VLOOKUP(D231,[1]sheet1!$A$1:$C$293,2,0)","v":2160},"是","否","/","是","毕业",{"v":0,"d":"¥0.00"}]
[227,"市场营销",1,"20220601027","黎丽珍",0,"无","是",34.5,{"$f":"VLOOKUP(D232,[1]sheet1!$A:$C,3,0)","v":319},"是",{"$f":"VLOOKUP(D232,[1]sheet1!$A$1:$C$293,2,0)","v":3440},"是","否","/","是","毕业",{"v":0,"d":"¥0.00"}]
[228,"市场营销",1,"20220601041","黄柳凤",0,"无","是",33.5,{"$f":"VLOOKUP(D233,[1]sheet1!$A:$C,3,0)","v":371},"是",{"$f":"VLOOKUP(D233,[1]sheet1!$A$1:$C$293,2,0)","v":2260},"是","否","/","是","毕业",{"v":0,"d":"¥0.00"}]
[229,"市场营销",1,"20220601052","周慧苗",0,"无","是",38.5,{"$f":"VLOOKUP(D234,[1]sheet1!$A:$C,3,0)","v":312},"是",{"$f":"VLOOKUP(D234,[1]sheet1!$A$1:$C$293,2,0)","v":3490},"是","否","/","是","毕业",{"v":0,"d":"¥0.00"}]
[230,"市场营销",1,"20220601073","廖宝华",0,"无","是",34.5,{"$f":"VLOOKUP(D235,[1]sheet1!$A:$C,3,0)","v":363},"是",{"$f":"VLOOKUP(D235,[1]sheet1!$A$1:$C$293,2,0)","v":2950},"是","否","/","是","毕业",{"v":0,"d":"¥0.00"}]
[231,"市场营销",1,"20220601068","梁培毅",0,"无","是",37.5,{"$f":"VLOOKUP(D236,[1]sheet1!$A:$C,3,0)","v":370},"是",{"$f":"VLOOKUP(D236,[1]sheet1!$A$1:$C$293,2,0)","v":2530},"是","否","/","是","毕业",{"v":0,"d":"¥0.00"}]
[232,"市场营销",1,"20220601081","梁依萍",0,"无","是",34.5,{"$f":"VLOOKUP(D237,[1]sheet1!$A:$C,3,0)","v":434},"是",{"$f":"VLOOKUP(D237,[1]sheet1!$A$1:$C$293,2,0)","v":3110},"是","否","/","是","毕业",{"v":0,"d":"¥0.00"}]
[233,"市场营销",1,"20220601066","唐敏敏",0,"无","是",35.5,{"$f":"VLOOKUP(D238,[1]sheet1!$A:$C,3,0)","v":291},"是",{"$f":"VLOOKUP(D238,[1]sheet1!$A$1:$C$293,2,0)","v":2780},"是","否","/","是","毕业",{"v":0,"d":"¥0.00"}]
[234,"市场营销",1,"20220601045","葛文慧",0,"无","是",38.5,{"$f":"VLOOKUP(D239,[1]sheet1!$A:$C,3,0)","v":332},"是",{"$f":"VLOOKUP(D239,[1]sheet1!$A$1:$C$293,2,0)","v":3240},"是","否","/","是","毕业",{"v":0,"d":"¥0.00"}]
[235,"市场营销",1,"20220601067","李君耀",0,"无","是",32.5,{"$f":"VLOOKUP(D240,[1]sheet1!$A:$C,3,0)","v":260},"是",{"$f":"VLOOKUP(D240,[1]sheet1!$A$1:$C$293,2,0)","v":2070},"是","否","/","是","毕业",{"v":0,"d":"¥0.00"}]
[236,"市场营销",1,"20220601078","蒋小燕",0,"无","是",35.5,{"$f":"VLOOKUP(D241,[1]sheet1!$A:$C,3,0)","v":601},"是",{"$f":"VLOOKUP(D241,[1]sheet1!$A$1:$C$293,2,0)","v":2870},"是","否","/","是","毕业",{"v":0,"d":"¥0.00"}]
[237,"市场营销",1,"20220601059","黄丽丽",0,"无","是",34.5,{"$f":"VLOOKUP(D242,[1]sheet1!$A:$C,3,0)","v":405},"是",{"$f":"VLOOKUP(D242,[1]sheet1!$A$1:$C$293,2,0)","v":4410},"是","否","/","是","毕业",{"v":0,"d":"¥0.00"}]
[238,"市场营销",1,"20220601060","黄中良",1,"销售管理与团队建设","是",34.5,{"$f":"VLOOKUP(D243,[1]sheet1!$A:$C,3,0)","v":286},"是",{"$f":"VLOOKUP(D243,[1]sheet1!$A$1:$C$293,2,0)","v":2290},"是","否","/","否","结业",{"v":0,"d":"¥0.00"},1]
[239,"市场营销",1,"20220601007","麦嘉嘉",1,"销售管理与团队建设","是",31.5,{"$f":"VLOOKUP(D244,[1]sheet1!$A:$C,3,0)","v":229},"是",{"$f":"VLOOKUP(D244,[1]sheet1!$A$1:$C$293,2,0)","v":1980},"是","否","/","否","结业",{"v":0,"d":"¥0.00"},1]
[240,"市场营销",1,"20220601080","何金凤",0,"无","是",40.5,{"$f":"VLOOKUP(D245,[1]sheet1!$A:$C,3,0)","v":312},"是",{"$f":"VLOOKUP(D245,[1]sheet1!$A$1:$C$293,2,0)","v":2490},"是","否","/","是","毕业",{"v":0,"d":"¥0.00"}]
[241,"市场营销",1,"20220601008","谭峻荣",0,"无","是",29.5,{"$f":"VLOOKUP(D246,[1]sheet1!$A:$C,3,0)","v":264},"是",{"$f":"VLOOKUP(D246,[1]sheet1!$A$1:$C$293,2,0)","v":2700},"是","否","/","是","毕业",{"v":0,"d":"¥0.00"}]
[242,"市场营销",2,"20220601097","邹佳芸",0,"无","是",30.5,{"$f":"VLOOKUP(D247,[1]sheet1!$A:$C,3,0)","v":225},"是",{"$f":"VLOOKUP(D247,[1]sheet1!$A$1:$C$293,2,0)","v":2290},"是","否","/","是","毕业",{"v":0,"d":"¥0.00"}]
[243,"市场营销",2,"20220601092","梁雨蕊",0,"无","是",34.5,{"$f":"VLOOKUP(D248,[1]sheet1!$A:$C,3,0)","v":263},"是",{"$f":"VLOOKUP(D248,[1]sheet1!$A$1:$C$293,2,0)","v":3540},"是","否","/","是","毕业",{"v":0,"d":"¥0.00"}]
[244,"市场营销",2,"20220601005","梁远谋",0,"无","是",34.5,{"$f":"VLOOKUP(D249,[1]sheet1!$A:$C,3,0)","v":283},"是",{"$f":"VLOOKUP(D249,[1]sheet1!$A$1:$C$293,2,0)","v":3000},"是","否","/","是","毕业",{"v":0,"d":"¥0.00"}]
[245,"市场营销",2,"20220601111","陆梦婷",0,"无","是",33.5,{"$f":"VLOOKUP(D250,[1]sheet1!$A:$C,3,0)","v":255},"是",{"$f":"VLOOKUP(D250,[1]sheet1!$A$1:$C$293,2,0)","v":2550},"是","否","/","是","毕业",{"v":0,"d":"¥0.00"}]
[246,"市场营销",2,"20220601046","赵创新",0,"无","是",31.5,{"$f":"VLOOKUP(D251,[1]sheet1!$A:$C,3,0)","v":224},"是",{"$f":"VLOOKUP(D251,[1]sheet1!$A$1:$C$293,2,0)","v":2190},"是","否","/","是","毕业",{"v":0,"d":"¥0.00"}]
[247,"市场营销",2,"20220601086","罗萍",0,"无","是",34.5,{"$f":"VLOOKUP(D252,[1]sheet1!$A:$C,3,0)","v":277},"是",{"$f":"VLOOKUP(D252,[1]sheet1!$A$1:$C$293,2,0)","v":3130},"是","否","/","是","毕业",{"v":0,"d":"¥0.00"}]
[248,"市场营销",2,"20220601087","李鸿瑜",0,"无","是",34.5,{"$f":"VLOOKUP(D253,[1]sheet1!$A:$C,3,0)","v":291},"是",{"$f":"VLOOKUP(D253,[1]sheet1!$A$1:$C$293,2,0)","v":3200},"是","否","/","是","毕业",{"v":0,"d":"¥0.00"}]
[249,"市场营销",2,"20220601037","梁雪静",0,"无","是",34.5,{"$f":"VLOOKUP(D254,[1]sheet1!$A:$C,3,0)","v":271},"是",{"$f":"VLOOKUP(D254,[1]sheet1!$A$1:$C$293,2,0)","v":3530},"是","否","/","是","毕业",{"v":0,"d":"¥0.00"}]
[250,"市场营销",2,"20220601093","黄小梅",0,"无","是",35.5,{"$f":"VLOOKUP(D255,[1]sheet1!$A:$C,3,0)","v":337},"是",{"$f":"VLOOKUP(D255,[1]sheet1!$A$1:$C$293,2,0)","v":2680},"是","否","/","是","毕业",{"v":0,"d":"¥0.00"}]
[251,"市场营销",2,"20220601103","肖珍珍",0,"无","是",35.5,{"$f":"VLOOKUP(D256,[1]sheet1!$A:$C,3,0)","v":385},"是",{"$f":"VLOOKUP(D256,[1]sheet1!$A$1:$C$293,2,0)","v":2330},"是","否","/","是","毕业",{"v":0,"d":"¥0.00"}]
[252,"市场营销",2,"20220601050","李梅",0,"无","是",36.5,{"$f":"VLOOKUP(D257,[1]sheet1!$A:$C,3,0)","v":246},"是",{"$f":"VLOOKUP(D257,[1]sheet1!$A$1:$C$293,2,0)","v":2620},"是","否","/","是","毕业",{"v":0,"d":"¥0.00"}]
[253,"市场营销",2,"20220601091","黄燕欣",0,"无","是",36.5,{"$f":"VLOOKUP(D258,[1]sheet1!$A:$C,3,0)","v":341},"是",{"$f":"VLOOKUP(D258,[1]sheet1!$A$1:$C$293,2,0)","v":3040},"是","否","/","是","毕业",{"v":0,"d":"¥0.00"}]
[254,"市场营销",2,"20220601036","韦琴",0,"无","是",37.5,{"$f":"VLOOKUP(D259,[1]sheet1!$A:$C,3,0)","v":484},"是",{"$f":"VLOOKUP(D259,[1]sheet1!$A$1:$C$293,2,0)","v":4350},"是","否","/","是","毕业",{"v":0,"d":"¥0.00"}]
[255,"市场营销",2,"20220601076","陆永君",0,"无","是",37.5,{"$f":"VLOOKUP(D260,[1]sheet1!$A:$C,3,0)","v":319},"是",{"$f":"VLOOKUP(D260,[1]sheet1!$A$1:$C$293,2,0)","v":3050},"是","否","/","是","毕业",{"v":0,"d":"¥0.00"}]
[256,"市场营销",2,"20220601003","覃佳妮",0,"无","是",36.5,{"$f":"VLOOKUP(D261,[1]sheet1!$A:$C,3,0)","v":337},"是",{"$f":"VLOOKUP(D261,[1]sheet1!$A$1:$C$293,2,0)","v":3580},"是","否","/","是","毕业",{"v":0,"d":"¥0.00"}]
[257,"市场营销",2,"20220601109","覃丽霞",0,"无","是",36.5,{"$f":"VLOOKUP(D262,[1]sheet1!$A:$C,3,0)","v":247},"是",{"$f":"VLOOKUP(D262,[1]sheet1!$A$1:$C$293,2,0)","v":2670},"是","否","/","是","毕业",{"v":0,"d":"¥0.00"}]
[258,"市场营销",2,"20220601047","陈碧婷",0,"无","是",34.5,{"$f":"VLOOKUP(D263,[1]sheet1!$A:$C,3,0)","v":336},"是",{"$f":"VLOOKUP(D263,[1]sheet1!$A$1:$C$293,2,0)","v":3430},"是","否","/","是","毕业",{"v":0,"d":"¥0.00"}]
[259,"市场营销",2,"20220601015","梁丽妃",0,"无","是",30.5,{"$f":"VLOOKUP(D264,[1]sheet1!$A:$C,3,0)","v":317},"是",{"$f":"VLOOKUP(D264,[1]sheet1!$A$1:$C$293,2,0)","v":2330},"是","否","/","是","毕业",{"v":0,"d":"¥0.00"}]
[260,"市场营销",2,"20220601024","韦雪燕",0,"无","是",32.5,{"$f":"VLOOKUP(D265,[1]sheet1!$A:$C,3,0)","v":307},"是",{"$f":"VLOOKUP(D265,[1]sheet1!$A$1:$C$293,2,0)","v":2750},"是","否","/","是","毕业",{"v":0,"d":"¥0.00"}]
[261,"市场营销",2,"20220601038","罗嘉嘉",0,"无","是",30.5,{"$f":"VLOOKUP(D266,[1]sheet1!$A:$C,3,0)","v":243},"是",{"$f":"VLOOKUP(D266,[1]sheet1!$A$1:$C$293,2,0)","v":2430},"是","否","/","是","毕业",{"v":0,"d":"¥0.00"}]
[262,"市场营销",2,"20220601033","黄秋蓝",0,"无","是",34.5,{"$f":"VLOOKUP(D267,[1]sheet1!$A:$C,3,0)","v":331},"是",{"$f":"VLOOKUP(D267,[1]sheet1!$A$1:$C$293,2,0)","v":2790},"是","否","/","是","毕业",{"v":0,"d":"¥0.00"}]
[263,"市场营销",2,"20220601009","卢羽婷",0,"无","是",32.5,{"$f":"VLOOKUP(D268,[1]sheet1!$A:$C,3,0)","v":298},"是",{"$f":"VLOOKUP(D268,[1]sheet1!$A$1:$C$293,2,0)","v":3880},"是","否","/","是","毕业",{"v":0,"d":"¥0.00"}]
[264,"市场营销",2,"20220601001","邹诗钰",0,"无","是",32.5,{"$f":"VLOOKUP(D269,[1]sheet1!$A:$C,3,0)","v":315},"是",{"$f":"VLOOKUP(D269,[1]sheet1!$A$1:$C$293,2,0)","v":2410},"是","否","/","是","毕业",{"v":0,"d":"¥0.00"}]
[265,"市场营销",2,"20220601019","陈雨钦",0,"无","是",31.5,{"$f":"VLOOKUP(D270,[1]sheet1!$A:$C,3,0)","v":247},"是",{"$f":"VLOOKUP(D270,[1]sheet1!$A$1:$C$293,2,0)","v":2500},"是","否","/","是","毕业",{"v":0,"d":"¥0.00"}]
[266,"市场营销",2,"20220601034","唐艳梅",0,"无","是",34.5,{"$f":"VLOOKUP(D271,[1]sheet1!$A:$C,3,0)","v":276},"是",{"$f":"VLOOKUP(D271,[1]sheet1!$A$1:$C$293,2,0)","v":2810},"是","否","/","是","毕业",{"v":0,"d":"¥0.00"}]
[267,"市场营销",2,"20220601039","胡小婷",0,"无","是",40.5,{"$f":"VLOOKUP(D272,[1]sheet1!$A:$C,3,0)","v":349},"是",{"$f":"VLOOKUP(D272,[1]sheet1!$A$1:$C$293,2,0)","v":2750},"是","否","/","是","毕业",{"v":0,"d":"¥0.00"}]
[268,"市场营销",2,"20220601028","张文",0,"无","是",34.5,{"$f":"VLOOKUP(D273,[1]sheet1!$A:$C,3,0)","v":261},"是",{"$f":"VLOOKUP(D273,[1]sheet1!$A$1:$C$293,2,0)","v":2850},"是","否","/","是","毕业",{"v":0,"d":"¥0.00"}]
[269,"市场营销",2,"20220601040","张文皓",0,"无","是",36.5,{"$f":"VLOOKUP(D274,[1]sheet1!$A:$C,3,0)","v":249},"是",{"$f":"VLOOKUP(D274,[1]sheet1!$A$1:$C$293,2,0)","v":2670},"是","否","/","是","毕业",{"v":0,"d":"¥0.00"}]
[270,"市场营销",2,"20220601002","莫友林",0,"无","是",34.5,{"$f":"VLOOKUP(D275,[1]sheet1!$A:$C,3,0)","v":258},"是",{"$f":"VLOOKUP(D275,[1]sheet1!$A$1:$C$293,2,0)","v":2590},"是","否","/","是","毕业",{"v":0,"d":"¥0.00"}]
[271,"市场营销",2,"20220601013","彭琪美",0,"无","是",30.5,{"$f":"VLOOKUP(D276,[1]sheet1!$A:$C,3,0)","v":243},"是",{"$f":"VLOOKUP(D276,[1]sheet1!$A$1:$C$293,2,0)","v":2990},"是","否","/","是","毕业",{"v":0,"d":"¥0.00"}]
[272,"市场营销",2,"20220601006","周尚禹",0,"无","是",32.5,{"$f":"VLOOKUP(D277,[1]sheet1!$A:$C,3,0)","v":284},"是",{"$f":"VLOOKUP(D277,[1]sheet1!$A$1:$C$293,2,0)","v":2710},"是","否","/","是","毕业",{"v":0,"d":"¥0.00"}]
[273,"市场营销",2,"20220601012","朱俊豪",0,"无","是",34.5,{"$f":"VLOOKUP(D278,[1]sheet1!$A:$C,3,0)","v":269},"是",{"$f":"VLOOKUP(D278,[1]sheet1!$A$1:$C$293,2,0)","v":2860},"是","否","/","是","毕业",{"v":0,"d":"¥0.00"}]
[274,"市场营销",2,"20220601056","符河",0,"无","是",32.5,{"$f":"VLOOKUP(D279,[1]sheet1!$A:$C,3,0)","v":259},"是",{"$f":"VLOOKUP(D279,[1]sheet1!$A$1:$C$293,2,0)","v":2100},"是","否","/","是","毕业",{"v":0,"d":"¥0.00"}]
[275,"市场营销",2,"20220601053","马伟强",0,"无","是",34.5,{"$f":"VLOOKUP(D280,[1]sheet1!$A:$C,3,0)","v":289},"是",{"$f":"VLOOKUP(D280,[1]sheet1!$A$1:$C$293,2,0)","v":2710},"是","否","/","是","毕业",{"v":0,"d":"¥0.00"}]
[276,"网络营销与直播电商",2,"20200607076","陈宇鑫",0,"无","是",31.5,371,"是",2370,"是","否","/","是","毕业",{"v":0,"d":"¥0.00"}]
[277,"网络营销与直播电商",2,"20210612021","梁国彬",0,"无","是",20,191,"是",1980,"是","否","/","是","毕业",{"v":0,"d":"¥0.00"}]
[278,"网络营销与直播电商",2,"20220210042","葛劲松",0,"无","是",28,243,"是",2210,"是","否","/","是","毕业",{"v":0,"d":"¥0.00"}]
[279,"网络营销与直播电商",2,"20220508117","韦湘楠",0,"无","是",32.5,306,"是",2640,"是","否","/","是","毕业",{"v":0,"d":"¥0.00"}]
[280,"网络营销与直播电商",2,"20220608018","韦乐敏",0,"无","是",29.5,261,"是",2650,"是","否","/","是","毕业",{"v":0,"d":"¥0.00"}]
[281,"网络营销与直播电商",2,"20220609010","黄世稳",0,"无","是",33.5,264,"是",2130,"是","否","/","是","毕业",{"v":0,"d":"¥0.00"}]
[282,"网络营销与直播电商",2,"20220612001","刘紫嫣",0,"无","是",29.5,262,"是",2130,"是","否","/","是","毕业",{"v":0,"d":"¥0.00"}]
[283,"网络营销与直播电商",2,"20220612002","覃夏露",0,"无","是",29.5,267,"是",2800,"是","否","/","是","毕业",{"v":0,"d":"¥0.00"}]
[284,"网络营销与直播电商",2,"20220612004","韦连任",0,"无","是",30.5,335,"是",2720,"是","否","/","是","毕业",{"v":0,"d":"¥0.00"}]
[285,"网络营销与直播电商",2,"20220612005","韦秀蓉",0,"无","是",30.5,341,"是",2950,"是","否","/","是","毕业",{"v":0,"d":"¥0.00"}]
[286,"网络营销与直播电商",2,"20220612007","陆健毅",0,"无","是",33.5,261,"是",2360,"是","否","/","是","毕业",{"v":0,"d":"¥0.00"}]
[287,"网络营销与直播电商",2,"20220612008","梁志辉",0,"无","是",32.5,317,"是",3260,"是","否","/","是","毕业",{"v":0,"d":"¥0.00"}]
[288,"网络营销与直播电商",2,"20220612009","李佳瑶",0,"无","是",32.5,277,"是",2770,"是","否","/","是","毕业",{"v":0,"d":"¥0.00"}]
[289,"网络营销与直播电商",2,"20220612010","梁雨砚",0,"无","是",31.5,233,"是",2550,"是","否","/","是","毕业",{"v":0,"d":"¥0.00"}]
[290,"网络营销与直播电商",2,"20220612011","黄庆",0,"无","是",34.5,528,"是",2430,"是","否","/","是","毕业",{"v":0,"d":"¥0.00"}]
[291,"网络营销与直播电商",2,"20220612012","韦芸茜",0,"无","是",31.5,258,"是",2130,"是","否","/","是","毕业",{"v":0,"d":"¥0.00"}]
[292,"网络营销与直播电商",2,"20220612013","黄子宁",0,"无","是",33.5,261,"是",2230,"是","否","/","是","毕业",{"v":0,"d":"¥0.00"}]
[293,"网络营销与直播电商",2,"20220612016","潘柠沣",0,"无","是",32.5,258,"是",2880,"是","否","/","是","毕业",{"v":0,"d":"¥0.00"}]
[294,"网络营销与直播电商",2,"20220612017","梁芹雁",0,"无","是",29.5,251,"是",2600,"是","否","/","是","毕业",{"v":0,"d":"¥0.00"}]
[295,"网络营销与直播电商",2,"20220612019","莫小聪",0,"无","是",29.5,266,"是",2300,"是","否","/","是","毕业",{"v":0,"d":"¥0.00"}]
[296,"网络营销与直播电商",2,"20220612020","林叶冰",0,"无","是",33.5,253,"是",2140,"是","否","/","是","毕业",{"v":0,"d":"¥0.00"}]
[297,"网络营销与直播电商",2,"20220612021","陈丽莎",0,"无","是",29.5,230,"是",2200,"是","否","/","是","毕业",{"v":0,"d":"¥0.00"}]
[298,"网络营销与直播电商",2,"20220612022","付贤宽",0,"无","是",33.5,253,"是",2540,"是","否","/","是","毕业",{"v":0,"d":"¥0.00"}]
[299,"网络营销与直播电商",2,"20220612023","韦立华",1,"预就业实习（整周实践）","是",34.5,257,"是",2320,"是","否","/","否","结业",{"v":0,"d":"¥0.00"},1]
[300,"网络营销与直播电商",2,"20220612024","吴佳佳",0,"无","是",36.5,274,"是",2450,"是","否","/","是","毕业",{"v":0,"d":"¥0.00"}]
[301,"网络营销与直播电商",2,"20220612025","刘馨蕊",0,"无","是",31.5,266,"是",2410,"是","否","/","是","毕业",{"v":0,"d":"¥0.00"}]
[302,"网络营销与直播电商",2,"20220612026","何幸航",0,"无","是",37.5,235,"是",2250,"是","否","/","是","毕业",{"v":0,"d":"¥0.00"}]
[303,"网络营销与直播电商",2,"20220612027","李溪兰",0,"无","是",31.5,286,"是",2410,"是","否","/","是","毕业",{"v":0,"d":"¥0.00"}]
[304,"网络营销与直播电商",2,"20220612028","王雯文",0,"无","是",31.5,256,"是",2490,"是","否","/","是","毕业",{"v":0,"d":"¥0.00"}]
[305,"网络营销与直播电商",2,"20220612029","麦展滔",0,"无","是",33.5,237,"是",2370,"是","否","/","是","毕业",{"v":0,"d":"¥0.00"}]
[306,"网络营销与直播电商",2,"20220612031","杨逾馨",0,"无","是",32.5,268,"是",2820,"是","否","/","是","毕业",{"v":0,"d":"¥0.00"}]
[307,"网络营销与直播电商",2,"20220612032","林佳怡",0,"无","是",29.5,258,"是",2720,"是","否","/","否","结业",{"v":0,"d":"¥0.00"}]
[308,"网络营销与直播电商",2,"20220612033","罗兆忠",1,"预就业实习（整周实践）","是",32.5,226,"是",2360,"是","否","/","否","结业",{"v":0,"d":"¥0.00"},1]
[309,"网络营销与直播电商",2,"20220612034","申依雨",1,"预就业实习（整周实践）","是",30,262,"是",2360,"是","否","/","否","结业",{"v":0,"d":"¥0.00"},1]
[310,"网络营销与直播电商",2,"20220612035","杨微",0,"无","是",30.5,309,"是",2820,"是","否","/","是","毕业",{"v":0,"d":"¥0.00"}]
[311,"网络营销与直播电商",2,"20220612036","殷晓健",1,"预就业实习（整周实践）","是",32.5,257,"是",2600,"是","否","/","否","结业",{"v":0,"d":"¥0.00"},1]
[312,"网络营销与直播电商",2,"20220612037","李桂东",0,"无","是",29.5,238,"是",2120,"是","否","/","是","毕业",{"v":0,"d":"¥0.00"}]
[313,"网络营销与直播电商",2,"20220612038","梁香迎",0,"无","是",29.5,250,"是",2250,"是","否","/","是","毕业",{"v":0,"d":"¥0.00"}]
[314,"网络营销与直播电商",2,"20220612039","韦雨梅",0,"无","是",31.5,274,"是",2790,"是","否","/","是","毕业",{"v":0,"d":"¥0.00"}]
[315,"网络营销与直播电商",2,"20220612040","苏建铭",0,"无","是",32.5,256,"是",2080,"是","否","/","是","毕业",{"v":0,"d":"¥0.00"}]
[316,"网络营销与直播电商",2,"20220612042","黄波",0,"无","是",27.5,277,"是",2990,"是","否","/","是","毕业",{"v":0,"d":"¥0.00"}]
[317,"网络营销与直播电商",2,"20220612043","莫嘉浩",1,"预就业实习（整周实践）","是",28.5,316,"是",2530,"是","否","/","否","结业",{"v":0,"d":"¥0.00"},1]
[318,"网络营销与直播电商",2,"20220612044","莫幸香",0,"无","是",30.5,243,"是",2490,"是","否","/","是","毕业",{"v":0,"d":"¥0.00"}]
[319,"网络营销与直播电商",2,"20220612045","刘建秋",0,"无","是",31,277,"是",2430,"是","否","/","是","毕业",{"v":0,"d":"¥0.00"}]
[320,"网络营销与直播电商",2,"20220612046","黄凤伟",0,"无","是",35.5,365,"是",2710,"是","否","/","是","毕业",{"v":0,"d":"¥0.00"}]
[321,"网络营销与直播电商",2,"20220612047","蒋航",0,"无","是",34.5,288,"是",2180,"是","否","/","是","毕业",{"v":0,"d":"¥0.00"}]
[322,"网络营销与直播电商",2,"20220612048","吴荣芬",0,"无","是",29.5,277,"是",2630,"是","否","/","是","毕业",{"v":0,"d":"¥0.00"}]
[323,"网络营销与直播电商",2,"20220612049","陈盈盈",0,"无","是",29.5,304,"是",2620,"是","否","/","是","毕业",{"v":0,"d":"¥0.00"}]
[324,"网络营销与直播电商",2,"20220612050","阳铠临",0,"无","是",30.5,243,"是",2530,"是","否","/","是","毕业",{"v":0,"d":"¥0.00"}]
[325,"网络营销与直播电商",2,"20220612051","贺江丽",1,"预就业实习（整周实践）","是",35.5,229,"是",2190,"是","否","/","否","结业",{"v":0,"d":"¥0.00"},1]
[326,"网络营销与直播电商",2,"20220612052","施德林",0,"无","是",37.5,280,"是",2840,"是","否","/","是","毕业",{"v":0,"d":"¥0.00"}]
[327,"网络营销与直播电商",2,"20220612053","金子欣",0,"无","是",33.5,263,"是",3090,"是","否","/","是","毕业",{"v":0,"d":"¥0.00"}]
[328,"网络营销与直播电商",2,"20220612055","韦海毛",0,"无","是",38.5,422,"是",3210,"是","否","/","是","毕业",{"v":0,"d":"¥0.00"}]
[329,"网络营销与直播电商",2,"20220612057","兰小婷",0,"无","是",31.5,329,"是",3120,"是","否","/","是","毕业",{"v":0,"d":"¥0.00"}]
[330,"网络营销与直播电商",2,"20220612058","钟家敏",0,"无","是",35.5,365,"是",2530,"是","否","/","是","毕业",{"v":0,"d":"¥0.00"}]
[331,"网络营销与直播电商",2,"20220612059","严盈盈",0,"无","是",35.5,275,"是",2760,"是","否","/","是","毕业",{"v":0,"d":"¥0.00"}]
[332,"网络营销与直播电商",2,"20220612062","杨锦柳",0,"无","是",39.5,426,"是",3070,"是","否","/","是","毕业",{"v":0,"d":"¥0.00"}]
[333,"网络营销与直播电商",2,"20220612063","韦琪",0,"无","是",30.5,318,"是",3390,"是","否","/","是","毕业",{"v":0,"d":"¥0.00"}]
[334,"网络营销与直播电商",2,"20220612065","覃洁梅",0,"无","是",31.5,359,"是",3270,"是","否","/","是","毕业",{"v":0,"d":"¥0.00"}]
[335,"网络营销与直播电商",2,"20220612066","谢宇婷",0,"无","是",37.5,276,"是",2730,"是","否","/","是","毕业",{"v":0,"d":"¥0.00"}]
[336,"网络营销与直播电商",2,"20220612068","余远琴",0,"无","是",31.5,257,"是",2340,"是","否","/","是","毕业",{"v":0,"d":"¥0.00"}]
[337,"网络营销与直播电商",2,"20220612069","韩秋惠",0,"无","是",29.5,300,"是",2580,"是","否","/","是","毕业",{"v":0,"d":"¥0.00"}]
[338,"网络营销与直播电商",2,"20220612072","彭露",1,"预就业实习（整周实践）","是",28.5,249,"是",2230,"是","否","/","否","结业",{"v":0,"d":"¥0.00"},1]
[339,"网络营销与直播电商",2,"20220612073","罗贵群",0,"无","是",32.5,255,"是",3370,"是","否","/","是","毕业",{"v":0,"d":"¥0.00"}]
[340,"空中乘务",1,"20170608020","农大忠",2,"民航服务英语（三）、客舱服务与管理（二）","是",8,192,"是",2900,"是","否","/","否","结业",{"v":0,"d":"¥0.00"},1,"按原培养计划审核"]
[341,"空中乘务",1,"20210608037","黄艳红",4,"声播训练、应急处置、职场英语、习近平新时代中国特色社会主义思想概论","是",20,219,"是",3830,"是","否","/","否","结业",{"v":0,"d":"¥0.00"},1]
[342,"空中乘务",1,"20210608060","覃俊霖",4,"预就业实习（整周实践）、基础英语、习近平新时代中国特色社会主义思想概论、经济数学","是",28,341,"是",2320,"是","否","/","否","结业",{"v":0,"d":"¥0.00"},1]
[343,"空中乘务",1,"20220608002","谭阳磊",0,"无","是",27,212,"是",2150,"是","否","/","是","毕业",{"v":0,"d":"¥0.00"}]
[344,"空中乘务",1,"20220608003","徐露",0,"无","是",29.5,622,"是",3960,"是","否","/","是","毕业",{"v":0,"d":"¥0.00"}]
[345,"空中乘务",1,"20220608004","严心怡",0,"无","是",31.5,213,"是",2860,"是","否","/","是","毕业",{"v":0,"d":"¥0.00"}]
[346,"空中乘务",1,"20220608005","廖平驹",0,"无","是",40.5,623,"是",3490,"是","否","/","是","毕业",{"v":0,"d":"¥0.00"}]
[347,"空中乘务",1,"20220608006","周佳倩",0,"无","是",29,308,"是",2540,"是","是","是","是","毕业",{"v":0,"d":"¥0.00"}]
[348,"空中乘务",1,"20220608007","莫斯云",0,"无","是",26.5,231,"是",2280,"是","否","/","是","毕业",{"v":0,"d":"¥0.00"}]
[349,"空中乘务",1,"20220608008","张小园",0,"无","是",28.5,257,"是",2760,"是","否","/","是","毕业",{"v":0,"d":"¥0.00"}]
[350,"空中乘务",1,"20220608010","韦红延",0,"无","是",26.5,212,"是",2080,"是","否","/","是","毕业",{"v":0,"d":"¥0.00"}]
[351,"空中乘务",1,"20220608011","邹豪",0,"无","是",26.5,243,"是",2010,"是","是","否","否","结业",{"v":0,"d":"¥0.00"}]
[352,"空中乘务",1,"20220608013","刘君诚",0,"无","是",26.5,241,"是",2150,"是","否","/","是","毕业",{"v":0,"d":"¥0.00"}]
[353,"空中乘务",1,"20220608014","叶雨熙",0,"无","是",29.5,311,"是",3260,"是","否","/","是","毕业",{"v":0,"d":"¥0.00"}]
[354,"空中乘务",1,"20220608015","黄欣悦",0,"无","是",32.5,590,"是",4270,"是","否","/","是","毕业",{"v":0,"d":"¥0.00"}]
[355,"空中乘务",1,"20220608017","蒋芸馨",0,"无","是",28.5,324,"是",3140,"是","否","/","是","毕业",{"v":0,"d":"¥0.00"}]
[356,"空中乘务",1,"20220608020","李佳仁",0,"无","是",27.5,224,"是",1960,"是","否","/","是","毕业",{"v":0,"d":"¥0.00"}]
[357,"空中乘务",1,"20220608021","谭博文",0,"无","是",27.5,309,"是",2880,"是","否","/","是","毕业",{"v":0,"d":"¥0.00"}]
[358,"空中乘务",1,"20220608023","梁思汝",0,"无","是",28.5,243,"是",3100,"是","否","/","是","毕业",{"v":0,"d":"¥0.00"}]
[359,"空中乘务",1,"20220608024","郑文翔",0,"无","是",28,273,"是",2350,"是","否","/","是","毕业",{"v":0,"d":"¥0.00"}]
[360,"空中乘务",1,"20220608025","义惠岚",1,"信息技术（云物大智基础）","是",30,267,"是",2190,"是","是","是","否","结业",{"v":0,"d":"¥0.00"},1]
[361,"空中乘务",1,"20220608026","黄文婷",0,"无","是",28.5,232,"是",2740,"是","否","/","是","毕业",{"v":0,"d":"¥0.00"}]
[362,"空中乘务",1,"20220608029","莫雅西",0,"无","是",27.5,249,"是",2480,"是","否","/","是","毕业",{"v":0,"d":"¥0.00"}]
[363,"空中乘务",1,"20220608030","刘嘉豪",0,"无","是",27.5,228,"是",1830,"是","否","/","是","毕业",{"v":0,"d":"¥0.00"}]
[364,"空中乘务",1,"20220608031","覃思鹏",0,"无","是",27.5,262,"是",2050,"是","是","是","是","毕业",{"v":0,"d":"¥0.00"}]
[365,"空中乘务",1,"20220608032","梁思漫",0,"无","是",28.5,247,"是",3130,"是","否","/","是","毕业",{"v":0,"d":"¥0.00"}]
[366,"空中乘务",1,"20220608033","张罗俊",1,"民航服务英语（一）","是",30.5,221,"是",2220,"是","否","/","否","结业",{"v":0,"d":"¥0.00"},1]
[367,"空中乘务",1,"20220608034","蒋湘萍",1,"信息技术（云物大智基础）","是",30.5,230,"是",2280,"是","否","/","否","结业",{"v":0,"d":"¥0.00"},1]
[368,"空中乘务",1,"20220608037","尹怡人",0,"无","是",28.5,250,"是",2690,"是","否","/","是","毕业",{"v":0,"d":"¥0.00"}]
[369,"空中乘务",1,"20220608038","莫振毓",0,"无","是",28.5,260,"是",2070,"是","否","/","是","毕业",{"v":0,"d":"¥0.00"}]
[370,"空中乘务",1,"20220608039","韦彩缘",2,"民航服务英语（一）、信息技术（云物大智基础）","是",26.5,225,"是",2330,"是","否","/","否","结业",{"v":0,"d":"¥0.00"},1]
[371,"空中乘务",1,"20220608040","林璇",0,"无","是",27.5,207,"是",2440,"是","否","/","是","毕业",{"v":0,"d":"¥0.00"}]
[372,"空中乘务",1,"20220608043","梁晴晴",0,"无","是",27.5,214,"是",2630,"是","否","/","是","毕业",{"v":0,"d":"¥0.00"}]
[373,"空中乘务",1,"20220608045","韦旋",1,"民航服务英语（一）","是",29,228,"是",1960,"是","否","/","否","结业",{"v":0,"d":"¥0.00"},1]
[374,"空中乘务",1,"20220608046","吴文静",0,"无","是",28.5,374,"是",3260,"是","否","/","是","毕业",{"v":0,"d":"¥0.00"}]
[375,"空中乘务",1,"20220608047","周雪梅",0,"无","是",27.5,216,"是",2990,"是","否","/","是","毕业",{"v":0,"d":"¥0.00"}]
[376,"空中乘务",1,"20220608048","罗何杰",0,"无","是",28.5,280,"是",2830,"是","否","/","是","毕业",{"v":0,"d":"¥0.00"}]
[377,"空中乘务",1,"20220608049","江桂焱",0,"无","是",30.5,301,"是",3220,"是","否","/","是","毕业",{"v":0,"d":"¥0.00"}]
[378,"空中乘务",1,"20220608050","谭宝怡",0,"无","是",28.5,245,"是",2100,"是","否","/","是","毕业",{"v":0,"d":"¥0.00"}]
[379,"空中乘务",1,"20220608051","钟俏俏",0,"无","是",28.5,222,"是",2210,"是","否","/","是","毕业",{"v":0,"d":"¥0.00"}]
[380,"空中乘务",1,"20220608052","张大吉",0,"无","是",25,271,"是",2390,"是","否","/","是","毕业",{"v":0,"d":"¥0.00"}]
[381,"空中乘务",1,"20220608053","唐静怡",0,"无","是",28.5,237,"是",2330,"是","否","/","是","毕业",{"v":0,"d":"¥0.00"}]
[382,"空中乘务",1,"20220608054","黎诗绮",0,"无","是",26,215,"是",1930,"是","否","/","是","毕业",{"v":0,"d":"¥0.00"}]
[383,"空中乘务",1,"20220608055","梁芝",1,"职场英语","是",30.5,229,"是",1850,"是","否","/","否","结业",{"v":0,"d":"¥0.00"},1]
[384,"空中乘务",1,"20220608056","叶菊敏",0,"无","是",28.5,234,"是",2100,"是","否","/","是","毕业",{"v":0,"d":"¥0.00"}]
[385,"空中乘务",1,"20220608057","廖秦坤",1,"民航服务英语（一）","是",30,203,"是",2020,"是","否","/","否","结业",{"v":0,"d":"¥0.00"},1]
[386,"空中乘务",1,"20220608058","陈海凤",2,"民航服务英语（一）、信息技术（云物大智基础）","是",26.5,212,"是",1970,"是","否","/","否","结业",{"v":0,"d":"¥0.00"},1]
[387,"民航安全技术管理",1,"20190609085","尹鹏宇",0,"无","是",24.5,274,"是",1590,"否","是","是","否","结业",{"v":7000,"d":"¥7,000.00"},3]
[388,"民航安全技术管理",1,"20210609007","刘贵平",0,"无","是",37.5,426,"是",3330,"是","否","/","是","毕业",{"v":0,"d":"¥0.00"}]
[389,"民航安全技术管理",1,"20210609016","曹茗杰",13,"劳动教育—工业·匠心、毛泽东思想和中国特色社会主义理论体系概论、体育与健康——排球(气排球)、通用核心能力测试、形势与政策（四）、职业发展与就业指导（一）、信息技术（云物大智基础）、预就业实习（整周实践）、职场英语、基础英语、民航服务英语（一）、习近平新时代中国特色社会主义思想概论、经济数学","是",18,248,"是",1560,"否","否","/","否","结业",{"v":0,"d":"¥0.00"},1.3]
[390,"民航安全技术管理",1,"20220609001","涂妤林",0,"无","是",28.5,290,"是",2620,"是","否","/","是","毕业",{"v":0,"d":"¥0.00"}]
[391,"民航安全技术管理",1,"20220609002","易志斌",0,"无","是",26.5,318,"是",3200,"是","否","/","是","毕业",{"v":0,"d":"¥0.00"}]
[392,"民航安全技术管理",1,"20220609003","欧阳雨桐",0,"无","是",32.5,404,"是",2630,"是","否","/","是","毕业",{"v":0,"d":"¥0.00"}]
[393,"民航安全技术管理",1,"20220609005","谢海婷",1,"预就业实习（整周实践）","是",36.5,451,"是",2860,"是","否","/","否","结业",{"v":0,"d":"¥0.00"},1]
[394,"民航安全技术管理",1,"20220609006","周书辰",0,"无","是",30.5,256,"是",2700,"是","否","/","是","毕业",{"v":0,"d":"¥0.00"}]
[395,"民航安全技术管理",1,"20220609007","左文聪",0,"无","是",30.5,271,"是",2810,"是","否","/","是","毕业",{"v":0,"d":"¥0.00"}]
[396,"民航安全技术管理",1,"20220609008","覃秋慧",0,"无","是",33.5,224,"是",2380,"是","否","/","是","毕业",{"v":0,"d":"¥0.00"}]
[397,"民航安全技术管理",1,"20220609009","杨填妹",0,"无","是",43.5,298,"是",2650,"是","否","/","是","毕业",{"v":0,"d":"¥0.00"}]
[398,"民航安全技术管理",1,"20220609011","冯琳林",0,"无","是",33.5,286,"是",2900,"是","否","/","是","毕业",{"v":0,"d":"¥0.00"}]
[399,"民航安全技术管理",1,"20220609012","覃秋露",0,"无","是",35.5,207,"是",2560,"是","否","/","是","毕业",{"v":0,"d":"¥0.00"}]
[400,"民航安全技术管理",1,"20220609013","黄兴如",0,"无","是",27.5,358,"是",3090,"是","否","/","是","毕业",{"v":0,"d":"¥0.00"}]
[401,"民航安全技术管理",1,"20220609014","荣燕菲",0,"无","是",42.5,402,"是",2820,"是","否","/","是","毕业",{"v":0,"d":"¥0.00"}]
[402,"民航安全技术管理",1,"20220609015","欧思思",0,"无","是",26.5,252,"是",2590,"是","否","/","是","毕业",{"v":0,"d":"¥0.00"}]
[403,"民航安全技术管理",1,"20220609016","梁欣琪",0,"无","是",44.5,384,"是",2860,"是","否","/","是","毕业",{"v":0,"d":"¥0.00"}]
[404,"民航安全技术管理",1,"20220609017","刘茜茜",0,"无","是",31,357,"是",2750,"是","否","/","是","毕业",{"v":0,"d":"¥0.00"}]
[405,"民航安全技术管理",1,"20220609018","梁柱颖",0,"无","是",29.5,320,"是",2610,"是","否","/","是","毕业",{"v":0,"d":"¥0.00"}]
[406,"民航安全技术管理",1,"20220609020","钟雪连",0,"无","是",29.5,225,"是",2330,"是","否","/","是","毕业",{"v":0,"d":"¥0.00"}]
[407,"民航安全技术管理",1,"20220609021","韦智元",0,"无","是",26,266,"是",2090,"是","否","/","是","毕业",{"v":0,"d":"¥0.00"}]
[408,"民航安全技术管理",1,"20220609022","覃春妮",0,"无","是",29.5,246,"是",3230,"是","否","/","是","毕业",{"v":0,"d":"¥0.00"}]
[409,"民航安全技术管理",1,"20220609023","韦新怡",0,"无","是",27.5,295,"是",3470,"是","否","/","是","毕业",{"v":0,"d":"¥0.00"}]
[410,"民航安全技术管理",1,"20220609024","蔡文涵",0,"无","是",29.5,212,"是",2700,"是","否","/","是","毕业",{"v":0,"d":"¥0.00"}]
[411,"民航安全技术管理",1,"20220609025","张晓雅",0,"无","是",25.5,319,"是",2750,"是","否","/","是","毕业",{"v":0,"d":"¥0.00"}]
[412,"民航安全技术管理",1,"20220609026","滚会田",0,"无","是",34.5,256,"是",3530,"是","否","/","是","毕业",{"v":0,"d":"¥0.00"}]
[413,"民航安全技术管理",1,"20220609027","韦王博伦",1,"职业发展与就业指导（一）","是",23.5,218,"是",2220,"是","否","/","否","结业",{"v":0,"d":"¥0.00"},1]
[414,"民航安全技术管理",1,"20220609029","张颖馨",0,"无","是",29.5,232,"是",2510,"是","否","/","是","毕业",{"v":0,"d":"¥0.00"}]
[415,"民航安全技术管理",1,"20220609030","陈玲",0,"无","是",31.5,224,"是",2530,"是","否","/","是","毕业",{"v":0,"d":"¥0.00"}]
[416,"民航安全技术管理",1,"20220609031","陈少羽",0,"无","是",28.5,249,"是",2760,"是","否","/","是","毕业",{"v":0,"d":"¥0.00"}]
[417,"民航安全技术管理",1,"20220609032","韦皇皇",0,"无","是",28.5,331,"是",3670,"是","否","/","是","毕业",{"v":0,"d":"¥0.00"}]
[418,"民航安全技术管理",1,"20220609034","黄玥辉",0,"无","是",22,222,"是",2270,"是","否","/","是","毕业",{"v":0,"d":"¥0.00"}]
[419,"民航安全技术管理",1,"20220609035","曾锦宏",1,"职场英语","是",25,256,"是",1840,"是","否","/","否","结业",{"v":0,"d":"¥0.00"},1]
[420,"民航安全技术管理",1,"20220609036","卫铸锐",4,"通用核心能力测试、经济数学、职场英语、大学生安全教育（三）","是",18,207,"是",1810,"是","否","/","否","结业",{"v":0,"d":"¥0.00"},1]
[421,"民航安全技术管理",1,"20220609037","潘秋丽",0,"无","是",42.5,452,"是",2880,"是","否","/","是","毕业",{"v":0,"d":"¥0.00"}]
[422,"民航安全技术管理",1,"20220609038","杨栋",6,"民航安检业务（一）、职场英语、民航服务英语（一）、应急处置、民航服务英语（二）、预就业实习（整周实践）","是",22,222,"是",1810,"是","是","是","否","结业",{"v":0,"d":"¥0.00"},1]
[423,"民航安全技术管理",1,"20220609039","曾丽婷",0,"无","是",31.5,239,"是",2510,"是","否","/","是","毕业",{"v":0,"d":"¥0.00"}]
[424,"民航安全技术管理",1,"20220609040","覃莫毅",0,"无","是",25,316,"是",2550,"是","否","/","是","毕业",{"v":0,"d":"¥0.00"}]
[425,"民航安全技术管理",1,"20220609041","熊俊超",4,"旅游地理、职场英语、民航服务英语（一）、民航服务英语（二）","是",25,228,"是",2170,"是","否","/","否","结业",{"v":0,"d":"¥0.00"},1]
[426,"民航安全技术管理",1,"20220609043","李昆高",0,"无","是",26,322,"是",2660,"是","否","/","是","毕业",{"v":0,"d":"¥0.00"}]
[427,"民航安全技术管理",1,"20220609044","马琦溦",0,"无","是",25,447,"是",2330,"是","否","/","是","毕业",{"v":0,"d":"¥0.00"}]
[428,"民航安全技术管理",1,"20220609045","王陈朱宝",0,"无","是",29.5,241,"是",2400,"是","否","/","是","毕业",{"v":0,"d":"¥0.00"}]
[429,"民航安全技术管理",1,"20220609046","张玉祥",1,"民航服务英语（一）","是",29,248,"是",2380,"是","否","/","否","结业",{"v":0,"d":"¥0.00"},1]
[430,"民航安全技术管理",1,"20220609047","李鑫",3,"职场英语、职业发展与就业指导（二）、民航服务英语（二）","是",26.5,250,"是",2270,"是","否","/","否","结业",{"v":0,"d":"¥0.00"},1]
[431,"民航安全技术管理",1,"20220609048","胡俊豪",0,"无","是",26,257,"是",2440,"是","否","/","是","毕业",{"v":0,"d":"¥0.00"}]
[432,"民航安全技术管理",1,"20220609049","刘秋伶",0,"无","是",34.5,326,"是",2810,"是","否","/","是","毕业",{"v":0,"d":"¥0.00"}]
[433,"民航安全技术管理",1,"20220609050","柳智新",0,"无","是",25,254,"是",2830,"是","否","/","是","毕业",{"v":0,"d":"¥0.00"}]
[434,"民航安全技术管理",1,"20220609051","刘盈平",0,"无","是",32.5,246,"是",2290,"是","否","/","是","毕业",{"v":0,"d":"¥0.00"}]
[435,"民航安全技术管理",1,"20220609052","赵冬琳",0,"无","是",36.5,474,"是",4520,"是","否","/","是","毕业",{"v":0,"d":"¥0.00"}]
[436,"民航安全技术管理",1,"20220609053","黄柳娟",0,"无","是",33.5,244,"是",2340,"是","否","/","是","毕业",{"v":0,"d":"¥0.00"}]
[437,"民航安全技术管理",1,"20220609054","周心淘",0,"无","是",27.5,377,"是",2500,"是","否","/","是","毕业",{"v":0,"d":"¥0.00"}]
[438,"民航安全技术管理",1,"20220609055","沈思钰",0,"无","是",29.5,239,"是",2040,"是","否","/","是","毕业",{"v":0,"d":"¥0.00"}]
[439,"民航安全技术管理",1,"20220609056","潘鲜梅",0,"无","是",33.5,244,"是",2580,"是","否","/","是","毕业",{"v":0,"d":"¥0.00"}]
[440,"民航安全技术管理",1,"20220609058","李翠玉",0,"无","是",25.5,285,"是",2590,"是","否","/","是","毕业",{"v":0,"d":"¥0.00"}]
[441,"民航安全技术管理",1,"20220609059","覃俐芙",0,"无","是",28,203,"是",2660,"是","否","/","是","毕业",{"v":0,"d":"¥0.00"}]
[442,"民航安全技术管理",1,"20220609060","孟仪",0,"无","是",45.5,321,"是",2730,"是","否","/","是","毕业",{"v":0,"d":"¥0.00"}]
[443,"电子商务(联)",1,"20200606814","黄韦建",1,"形势与政策（四）","是",31,{"$f":"VLOOKUP(E448,[2]sheet1!$D$2:$H$156,5,FALSE)","v":202},"是",{"$f":"VLOOKUP(E448,[2]sheet1!$D$2:$G$156,4,FALSE)","v":3200},"是","否","/","否","结业",{"v":0,"d":"¥0.00"},1]
[444,"电子商务(联)",1,"20220606084","李福树",0,"无","是",34,{"$f":"VLOOKUP(E449,[2]sheet1!$D$2:$H$156,5,FALSE)","v":175},"是",{"$f":"VLOOKUP(E449,[2]sheet1!$D$2:$G$156,4,FALSE)","v":2160},"是","否","/","是","毕业",{"v":0,"d":"¥0.00"}]
[445,"电子商务(联)",1,"20220606021","黄浩智",0,"无","是",34,{"$f":"VLOOKUP(E450,[2]sheet1!$D$2:$H$156,5,FALSE)","v":176},"是",{"$f":"VLOOKUP(E450,[2]sheet1!$D$2:$G$156,4,FALSE)","v":2480},"是","否","/","是","毕业",{"v":0,"d":"¥0.00"}]
[446,"电子商务(联)",1,"20220606092","韦丽森",0,"无","是",34,{"$f":"VLOOKUP(E451,[2]sheet1!$D$2:$H$156,5,FALSE)","v":160},"是",{"$f":"VLOOKUP(E451,[2]sheet1!$D$2:$G$156,4,FALSE)","v":2330},"是","否","/","是","毕业",{"v":0,"d":"¥0.00"}]
[447,"电子商务(联)",1,"20220606059","覃雯静",0,"无","是",35,{"$f":"VLOOKUP(E452,[2]sheet1!$D$2:$H$156,5,FALSE)","v":194},"是",{"$f":"VLOOKUP(E452,[2]sheet1!$D$2:$G$156,4,FALSE)","v":2680},"是","否","/","是","毕业",{"v":0,"d":"¥0.00"}]
[448,"电子商务(联)",1,"20220606085","韦俊道",2,"经济数学、商务数据分析","是",35,{"$f":"VLOOKUP(E453,[2]sheet1!$D$2:$H$156,5,FALSE)","v":250},"是",{"$f":"VLOOKUP(E453,[2]sheet1!$D$2:$G$156,4,FALSE)","v":2170},"是","否","/","否","结业",{"v":0,"d":"¥0.00"},1]
[449,"电子商务(联)",1,"20220606069","刘辉凡",0,"无","是",35,{"$f":"VLOOKUP(E454,[2]sheet1!$D$2:$H$156,5,FALSE)","v":174},"是",{"$f":"VLOOKUP(E454,[2]sheet1!$D$2:$G$156,4,FALSE)","v":2240},"是","否","/","是","毕业",{"v":0,"d":"¥0.00"}]
[450,"电子商务(联)",1,"20220606057","蒙迪",0,"无","是",31,{"$f":"VLOOKUP(E455,[2]sheet1!$D$2:$H$156,5,FALSE)","v":160},"是",{"$f":"VLOOKUP(E455,[2]sheet1!$D$2:$G$156,4,FALSE)","v":2090},"是","否","/","是","毕业",{"v":0,"d":"¥0.00"}]
[451,"电子商务(联)",1,"20220606068","王许杰",0,"无","是",35,{"$f":"VLOOKUP(E456,[2]sheet1!$D$2:$H$156,5,FALSE)","v":164},"是",{"$f":"VLOOKUP(E456,[2]sheet1!$D$2:$G$156,4,FALSE)","v":2320},"是","否","/","是","毕业",{"v":0,"d":"¥0.00"}]
[452,"电子商务(联)",1,"20220606060","沈旺珉",1,"形势与政策(一)","是",32,{"$f":"VLOOKUP(E457,[2]sheet1!$D$2:$H$156,5,FALSE)","v":178},"是",{"$f":"VLOOKUP(E457,[2]sheet1!$D$2:$G$156,4,FALSE)","v":2310},"是","否","/","否","结业",{"v":0,"d":"¥0.00"},1]
[453,"电子商务(联)",1,"20220606097","李奕锋",0,"无","是",35,{"$f":"VLOOKUP(E458,[2]sheet1!$D$2:$H$156,5,FALSE)","v":218},"是",{"$f":"VLOOKUP(E458,[2]sheet1!$D$2:$G$156,4,FALSE)","v":2270},"是","否","/","是","毕业",{"v":0,"d":"¥0.00"}]
[454,"电子商务(联)",1,"20220606071","谭明德",0,"无","是",31,{"$f":"VLOOKUP(E459,[2]sheet1!$D$2:$H$156,5,FALSE)","v":174},"是",{"$f":"VLOOKUP(E459,[2]sheet1!$D$2:$G$156,4,FALSE)","v":2480},"是","否","/","是","毕业",{"v":0,"d":"¥0.00"}]
[455,"电子商务(联)",1,"20220606074","兰嘉华",0,"无","是",32,{"$f":"VLOOKUP(E460,[2]sheet1!$D$2:$H$156,5,FALSE)","v":180},"是",{"$f":"VLOOKUP(E460,[2]sheet1!$D$2:$G$156,4,FALSE)","v":2440},"是","否","/","是","毕业",{"v":0,"d":"¥0.00"}]
[456,"电子商务(联)",1,"20220606026","韦志凤",0,"无","是",38,{"$f":"VLOOKUP(E461,[2]sheet1!$D$2:$H$156,5,FALSE)","v":183},"是",{"$f":"VLOOKUP(E461,[2]sheet1!$D$2:$G$156,4,FALSE)","v":2580},"是","否","/","是","毕业",{"v":0,"d":"¥0.00"}]
[457,"电子商务(联)",1,"20220606102","石小媚",0,"无","是",34,{"$f":"VLOOKUP(E462,[2]sheet1!$D$2:$H$156,5,FALSE)","v":194},"是",{"$f":"VLOOKUP(E462,[2]sheet1!$D$2:$G$156,4,FALSE)","v":2680},"是","否","/","是","毕业",{"v":0,"d":"¥0.00"}]
[458,"电子商务(联)",1,"20200109814","何鸿磊",0,"无","是",33,{"$f":"VLOOKUP(E463,[2]sheet1!$D$2:$H$156,5,FALSE)","v":134},"是",{"$f":"VLOOKUP(E463,[2]sheet1!$D$2:$G$156,4,FALSE)","v":2670},"是","否","/","是","毕业",{"v":0,"d":"¥0.00"}]
[459,"电子商务(联)",1,"20220606067","李倩倩",0,"无","是",39,{"$f":"VLOOKUP(E464,[2]sheet1!$D$2:$H$156,5,FALSE)","v":163},"是",{"$f":"VLOOKUP(E464,[2]sheet1!$D$2:$G$156,4,FALSE)","v":2400},"是","否","/","是","毕业",{"v":0,"d":"¥0.00"}]
[460,"电子商务(联)",1,"20220606064","农丽慧",0,"无","是",34,{"$f":"VLOOKUP(E465,[2]sheet1!$D$2:$H$156,5,FALSE)","v":178},"是",{"$f":"VLOOKUP(E465,[2]sheet1!$D$2:$G$156,4,FALSE)","v":2450},"是","否","/","是","毕业",{"v":0,"d":"¥0.00"}]
[461,"电子商务(联)",1,"20220606073","朱纪荣",0,"无","是",33,{"$f":"VLOOKUP(E466,[2]sheet1!$D$2:$H$156,5,FALSE)","v":174},"是",{"$f":"VLOOKUP(E466,[2]sheet1!$D$2:$G$156,4,FALSE)","v":2060},"是","否","/","是","毕业",{"v":0,"d":"¥0.00"}]
[462,"电子商务(联)",1,"20220606098","莫烨琳",0,"无","是",33,{"$f":"VLOOKUP(E467,[2]sheet1!$D$2:$H$156,5,FALSE)","v":165},"是",{"$f":"VLOOKUP(E467,[2]sheet1!$D$2:$G$156,4,FALSE)","v":2450},"是","否","/","是","毕业",{"v":0,"d":"¥0.00"}]
[463,"电子商务(联)",1,"20220606075","刘轩",0,"无","是",33,{"$f":"VLOOKUP(E468,[2]sheet1!$D$2:$H$156,5,FALSE)","v":169},"是",{"$f":"VLOOKUP(E468,[2]sheet1!$D$2:$G$156,4,FALSE)","v":2340},"是","否","/","是","毕业",{"v":0,"d":"¥0.00"}]
[464,"电子商务(联)",1,"20220606082","覃杜雯",0,"无","是",34,{"$f":"VLOOKUP(E469,[2]sheet1!$D$2:$H$156,5,FALSE)","v":160},"是",{"$f":"VLOOKUP(E469,[2]sheet1!$D$2:$G$156,4,FALSE)","v":2390},"是","否","/","是","毕业",{"v":0,"d":"¥0.00"}]
[465,"电子商务(联)",1,"20220606044","陆紫媛",0,"无","是",32,{"$f":"VLOOKUP(E470,[2]sheet1!$D$2:$H$156,5,FALSE)","v":172},"是",{"$f":"VLOOKUP(E470,[2]sheet1!$D$2:$G$156,4,FALSE)","v":2690},"是","否","/","是","毕业",{"v":0,"d":"¥0.00"}]
[466,"电子商务(联)",1,"20220606027","钟敏清",0,"无","是",33,{"$f":"VLOOKUP(E471,[2]sheet1!$D$2:$H$156,5,FALSE)","v":287},"是",{"$f":"VLOOKUP(E471,[2]sheet1!$D$2:$G$156,4,FALSE)","v":3020},"是","否","/","是","毕业",{"v":0,"d":"¥0.00"}]
[467,"电子商务(联)",1,"20220606095","龙照林",0,"无","是",32,{"$f":"VLOOKUP(E472,[2]sheet1!$D$2:$H$156,5,FALSE)","v":168},"是",{"$f":"VLOOKUP(E472,[2]sheet1!$D$2:$G$156,4,FALSE)","v":2410},"是","否","/","是","毕业",{"v":0,"d":"¥0.00"}]
[468,"电子商务(联)",1,"20220606086","黄辛",0,"无","是",35,{"$f":"VLOOKUP(E473,[2]sheet1!$D$2:$H$156,5,FALSE)","v":156},"是",{"$f":"VLOOKUP(E473,[2]sheet1!$D$2:$G$156,4,FALSE)","v":2310},"是","否","/","是","毕业",{"v":0,"d":"¥0.00"}]
[469,"电子商务(联)",1,"20220606053","黄焯然",1,"军事理论","是",24,{"$f":"VLOOKUP(E474,[2]sheet1!$D$2:$H$156,5,FALSE)","v":159},"是",{"$f":"VLOOKUP(E474,[2]sheet1!$D$2:$G$156,4,FALSE)","v":1810},"是","否","/","否","结业",{"v":0,"d":"¥0.00"},1]
[470,"电子商务(联)",1,"20220606091","梁颖淑",0,"无","是",34,{"$f":"VLOOKUP(E475,[2]sheet1!$D$2:$H$156,5,FALSE)","v":180},"是",{"$f":"VLOOKUP(E475,[2]sheet1!$D$2:$G$156,4,FALSE)","v":2660},"是","否","/","是","毕业",{"v":0,"d":"¥0.00"}]
[471,"电子商务(联)",1,"20220606090","唐吉鹏",0,"无","是",34,{"$f":"VLOOKUP(E476,[2]sheet1!$D$2:$H$156,5,FALSE)","v":167},"是",{"$f":"VLOOKUP(E476,[2]sheet1!$D$2:$G$156,4,FALSE)","v":2140},"是","否","/","是","毕业",{"v":0,"d":"¥0.00"}]
[472,"电子商务(联)",1,"20220606087","陈子富",0,"无","是",34,{"$f":"VLOOKUP(E477,[2]sheet1!$D$2:$H$156,5,FALSE)","v":163},"是",{"$f":"VLOOKUP(E477,[2]sheet1!$D$2:$G$156,4,FALSE)","v":2350},"是","否","/","是","毕业",{"v":0,"d":"¥0.00"}]
[473,"电子商务(联)",1,"20220606093","韦嘉妮",0,"无","是",33,{"$f":"VLOOKUP(E478,[2]sheet1!$D$2:$H$156,5,FALSE)","v":147},"是",{"$f":"VLOOKUP(E478,[2]sheet1!$D$2:$G$156,4,FALSE)","v":2180},"是","否","/","是","毕业",{"v":0,"d":"¥0.00"}]
[474,"电子商务(联)",1,"20220606058","张凯波",0,"无","是",35,{"$f":"VLOOKUP(E479,[2]sheet1!$D$2:$H$156,5,FALSE)","v":160},"是",{"$f":"VLOOKUP(E479,[2]sheet1!$D$2:$G$156,4,FALSE)","v":2220},"是","否","/","是","毕业",{"v":0,"d":"¥0.00"}]
[475,"电子商务(联)",1,"20220606062","赖远泰",0,"无","是",34,{"$f":"VLOOKUP(E480,[2]sheet1!$D$2:$H$156,5,FALSE)","v":167},"是",{"$f":"VLOOKUP(E480,[2]sheet1!$D$2:$G$156,4,FALSE)","v":2260},"是","否","/","是","毕业",{"v":0,"d":"¥0.00"}]
[476,"电子商务(联)",1,"20220606096","兰柳站",0,"无","是",33,{"$f":"VLOOKUP(E481,[2]sheet1!$D$2:$H$156,5,FALSE)","v":161},"是",{"$f":"VLOOKUP(E481,[2]sheet1!$D$2:$G$156,4,FALSE)","v":2110},"是","否","/","是","毕业",{"v":0,"d":"¥0.00"}]
[477,"电子商务(联)",1,"20220606083","廖桂湘",0,"无","是",35,{"$f":"VLOOKUP(E482,[2]sheet1!$D$2:$H$156,5,FALSE)","v":214},"是",{"$f":"VLOOKUP(E482,[2]sheet1!$D$2:$G$156,4,FALSE)","v":2190},"是","否","/","是","毕业",{"v":0,"d":"¥0.00"}]
[478,"电子商务(联)",1,"20220606047","宾静",0,"无","是",35,{"$f":"VLOOKUP(E483,[2]sheet1!$D$2:$H$156,5,FALSE)","v":190},"是",{"$f":"VLOOKUP(E483,[2]sheet1!$D$2:$G$156,4,FALSE)","v":2330},"是","否","/","是","毕业",{"v":0,"d":"¥0.00"}]
[479,"电子商务(联)",1,"20220606089","李若琪",0,"无","是",35,{"$f":"VLOOKUP(E484,[2]sheet1!$D$2:$H$156,5,FALSE)","v":194},"是",{"$f":"VLOOKUP(E484,[2]sheet1!$D$2:$G$156,4,FALSE)","v":2240},"是","否","/","是","毕业",{"v":0,"d":"¥0.00"}]
[480,"电子商务(联)",1,"20220606099","李日信",0,"无","是",33,{"$f":"VLOOKUP(E485,[2]sheet1!$D$2:$H$156,5,FALSE)","v":154},"是",{"$f":"VLOOKUP(E485,[2]sheet1!$D$2:$G$156,4,FALSE)","v":2390},"是","否","/","是","毕业",{"v":0,"d":"¥0.00"}]
[481,"电子商务(联)",1,"20220606103","潘宇权",0,"无","是",37,{"$f":"VLOOKUP(E486,[2]sheet1!$D$2:$H$156,5,FALSE)","v":147},"是",{"$f":"VLOOKUP(E486,[2]sheet1!$D$2:$G$156,4,FALSE)","v":2010},"是","否","/","是","毕业",{"v":0,"d":"¥0.00"}]
[482,"电子商务(联)",1,"20220606066","苏成凤",0,"无","是",34,{"$f":"VLOOKUP(E487,[2]sheet1!$D$2:$H$156,5,FALSE)","v":172},"是",{"$f":"VLOOKUP(E487,[2]sheet1!$D$2:$G$156,4,FALSE)","v":2450},"是","否","/","是","毕业",{"v":0,"d":"¥0.00"}]
[483,"电子商务(联)",1,"20220606100","林楦",0,"无","是",32,{"$f":"VLOOKUP(E488,[2]sheet1!$D$2:$H$156,5,FALSE)","v":132},"是",{"$f":"VLOOKUP(E488,[2]sheet1!$D$2:$G$156,4,FALSE)","v":2020},"是","否","/","是","毕业",{"v":0,"d":"¥0.00"}]
[484,"电子商务(联)",1,"20220606104","叶琳婷",0,"无","是",35,{"$f":"VLOOKUP(E489,[2]sheet1!$D$2:$H$156,5,FALSE)","v":159},"是",{"$f":"VLOOKUP(E489,[2]sheet1!$D$2:$G$156,4,FALSE)","v":2360},"是","否","/","是","毕业",{"v":0,"d":"¥0.00"}]

{"sheet":"Sheet2","index":1,"n_rows":0,"n_cols":0,"rows_kept":0}

{"sheet":"Sheet3","index":2,"n_rows":0,"n_cols":0,"rows_kept":0}